BEGIN:VCALENDAR
VERSION:2.0
PRODID:-//Postural Restoration Institute - ECPv6.15.15//NONSGML v1.0//EN
CALSCALE:GREGORIAN
METHOD:PUBLISH
X-WR-CALNAME:Postural Restoration Institute
X-ORIGINAL-URL:https://www.posturalrestoration.com
X-WR-CALDESC:Events for Postural Restoration Institute
REFRESH-INTERVAL;VALUE=DURATION:PT1H
X-Robots-Tag:noindex
X-PUBLISHED-TTL:PT1H
BEGIN:VTIMEZONE
TZID:America/Chicago
BEGIN:DAYLIGHT
TZOFFSETFROM:-0600
TZOFFSETTO:-0500
TZNAME:CDT
DTSTART:20130310T080000
END:DAYLIGHT
BEGIN:STANDARD
TZOFFSETFROM:-0500
TZOFFSETTO:-0600
TZNAME:CST
DTSTART:20131103T070000
END:STANDARD
BEGIN:DAYLIGHT
TZOFFSETFROM:-0600
TZOFFSETTO:-0500
TZNAME:CDT
DTSTART:20140309T080000
END:DAYLIGHT
BEGIN:STANDARD
TZOFFSETFROM:-0500
TZOFFSETTO:-0600
TZNAME:CST
DTSTART:20141102T070000
END:STANDARD
BEGIN:DAYLIGHT
TZOFFSETFROM:-0600
TZOFFSETTO:-0500
TZNAME:CDT
DTSTART:20150308T080000
END:DAYLIGHT
BEGIN:STANDARD
TZOFFSETFROM:-0500
TZOFFSETTO:-0600
TZNAME:CST
DTSTART:20151101T070000
END:STANDARD
BEGIN:DAYLIGHT
TZOFFSETFROM:-0600
TZOFFSETTO:-0500
TZNAME:CDT
DTSTART:20160313T080000
END:DAYLIGHT
BEGIN:STANDARD
TZOFFSETFROM:-0500
TZOFFSETTO:-0600
TZNAME:CST
DTSTART:20161106T070000
END:STANDARD
BEGIN:DAYLIGHT
TZOFFSETFROM:-0600
TZOFFSETTO:-0500
TZNAME:CDT
DTSTART:20170312T080000
END:DAYLIGHT
BEGIN:STANDARD
TZOFFSETFROM:-0500
TZOFFSETTO:-0600
TZNAME:CST
DTSTART:20171105T070000
END:STANDARD
BEGIN:DAYLIGHT
TZOFFSETFROM:-0600
TZOFFSETTO:-0500
TZNAME:CDT
DTSTART:20180311T080000
END:DAYLIGHT
BEGIN:STANDARD
TZOFFSETFROM:-0500
TZOFFSETTO:-0600
TZNAME:CST
DTSTART:20181104T070000
END:STANDARD
BEGIN:DAYLIGHT
TZOFFSETFROM:-0600
TZOFFSETTO:-0500
TZNAME:CDT
DTSTART:20190310T080000
END:DAYLIGHT
BEGIN:STANDARD
TZOFFSETFROM:-0500
TZOFFSETTO:-0600
TZNAME:CST
DTSTART:20191103T070000
END:STANDARD
BEGIN:DAYLIGHT
TZOFFSETFROM:-0600
TZOFFSETTO:-0500
TZNAME:CDT
DTSTART:20200308T080000
END:DAYLIGHT
BEGIN:STANDARD
TZOFFSETFROM:-0500
TZOFFSETTO:-0600
TZNAME:CST
DTSTART:20201101T070000
END:STANDARD
BEGIN:DAYLIGHT
TZOFFSETFROM:-0600
TZOFFSETTO:-0500
TZNAME:CDT
DTSTART:20210314T080000
END:DAYLIGHT
BEGIN:STANDARD
TZOFFSETFROM:-0500
TZOFFSETTO:-0600
TZNAME:CST
DTSTART:20211107T070000
END:STANDARD
BEGIN:DAYLIGHT
TZOFFSETFROM:-0600
TZOFFSETTO:-0500
TZNAME:CDT
DTSTART:20220313T080000
END:DAYLIGHT
BEGIN:STANDARD
TZOFFSETFROM:-0500
TZOFFSETTO:-0600
TZNAME:CST
DTSTART:20221106T070000
END:STANDARD
BEGIN:DAYLIGHT
TZOFFSETFROM:-0600
TZOFFSETTO:-0500
TZNAME:CDT
DTSTART:20230312T080000
END:DAYLIGHT
BEGIN:STANDARD
TZOFFSETFROM:-0500
TZOFFSETTO:-0600
TZNAME:CST
DTSTART:20231105T070000
END:STANDARD
BEGIN:DAYLIGHT
TZOFFSETFROM:-0600
TZOFFSETTO:-0500
TZNAME:CDT
DTSTART:20240310T080000
END:DAYLIGHT
BEGIN:STANDARD
TZOFFSETFROM:-0500
TZOFFSETTO:-0600
TZNAME:CST
DTSTART:20241103T070000
END:STANDARD
BEGIN:DAYLIGHT
TZOFFSETFROM:-0600
TZOFFSETTO:-0500
TZNAME:CDT
DTSTART:20250309T080000
END:DAYLIGHT
BEGIN:STANDARD
TZOFFSETFROM:-0500
TZOFFSETTO:-0600
TZNAME:CST
DTSTART:20251102T070000
END:STANDARD
END:VTIMEZONE
BEGIN:VEVENT
DTSTART;TZID=America/Chicago:20241019T080000
DTEND;TZID=America/Chicago:20241020T170000
DTSTAMP:20260425T070051
CREATED:20240124T201508Z
LAST-MODIFIED:20240920T144000Z
UID:10001016-1729324800-1729443600@www.posturalrestoration.com
SUMMARY:Postural Respiration\, October 19-20\, 2024 (Cary\, NC)
DESCRIPTION:An Integrated Approach to Treatment of Patterned Thoraco-Abdominal Pathomechanics
URL:https://www.posturalrestoration.com/programs-courses/introductory-courses/postural-respiration/?venue=person#10001016
LOCATION:STEPS for Recovery\, Cary\, NC\, United States
CATEGORIES:Postural Respiration
ATTACH;FMTTYPE=image/jpeg:https://cdn-space2.dbmgo.com/pri/wp-content/uploads/2023/12/01014503/Louise-Postural-Respiration-scaled.jpg
END:VEVENT
BEGIN:VEVENT
DTSTART;TZID=America/Chicago:20191005T080000
DTEND;TZID=America/Chicago:20191006T170000
DTSTAMP:20260425T070051
CREATED:20230915T165547Z
LAST-MODIFIED:20230915T165547Z
UID:10000513-1570262400-1570381200@www.posturalrestoration.com
SUMMARY:Cranial Resolution\, October 5-6\, 2019 (Cary\, NC)
DESCRIPTION:An Integrated Approach to the Treatment of Autonomic and Central Nervous System Dysfunctional Oscillation
URL:https://www.posturalrestoration.com/programs-courses/tertiary-courses/cranial-resolution/?venue=person#10000513
LOCATION:STEPS for Recovery\, Cary\, NC\, United States
CATEGORIES:Cranial Resolution
ATTACH;FMTTYPE=image/jpeg:https://cdn-space2.dbmgo.com/pri/wp-content/uploads/2024/02/19160109/Cranial-Resolution-Jen-Smart-scaled-e1708380178241.jpg
END:VEVENT
BEGIN:VEVENT
DTSTART;TZID=America/Chicago:20190406T080000
DTEND;TZID=America/Chicago:20190407T170000
DTSTAMP:20260425T070051
CREATED:20230915T164831Z
LAST-MODIFIED:20230915T164831Z
UID:10000503-1554537600-1554656400@www.posturalrestoration.com
SUMMARY:Impingement & Instability\, April 6-7\, 2019 (Cary\, NC)
DESCRIPTION:A Unique Approach to the Treatment of Common Impingement and Instability Through PRI Reference Center Integration
URL:https://www.posturalrestoration.com/programs-courses/secondary-courses/impingement-instability/?venue=person#10000503
LOCATION:STEPS for Recovery\, Cary\, NC\, United States
CATEGORIES:Impingement and Instability
ATTACH;FMTTYPE=image/jpeg:https://cdn-space2.dbmgo.com/pri/wp-content/uploads/2024/03/Impingement-course-page3.jpg
END:VEVENT
BEGIN:VEVENT
DTSTART;TZID=America/Chicago:20171007T080000
DTEND;TZID=America/Chicago:20171008T170000
DTSTAMP:20260425T070051
CREATED:20230915T064543Z
LAST-MODIFIED:20230915T064543Z
UID:10000332-1507363200-1507482000@www.posturalrestoration.com
SUMMARY:Cervical Revolution\, October 7-8\, 2017\, (Cary\, NC)
DESCRIPTION:An Integrated Approach to the Treatment of Patterned Cervical Pathomechanics
URL:https://www.posturalrestoration.com/programs-courses/secondary-courses/cervical-revolution/?venue=person#10000332
LOCATION:STEPS for Recovery\, Cary\, NC\, United States
CATEGORIES:Cervical Revolution
ATTACH;FMTTYPE=image/jpeg:https://cdn-space2.dbmgo.com/pri/wp-content/uploads/2023/12/01014502/Cervical-Revolution-Louise-scaled.jpg
END:VEVENT
BEGIN:VEVENT
DTSTART;TZID=America/Chicago:20141004T080000
DTEND;TZID=America/Chicago:20141005T170000
DTSTAMP:20260425T070051
CREATED:20230915T030108Z
LAST-MODIFIED:20230915T030108Z
UID:10000056-1412409600-1412528400@www.posturalrestoration.com
SUMMARY:Pelvis Restoration Cary\, NC - Oct. 4-5\, 2014
DESCRIPTION:An Integrated Approach to Treatment of Patterned Pubo-Sacral Pathomechanics
URL:https://www.posturalrestoration.com/programs-courses/introductory-courses/pelvis-restoration/?venue=person#10000056
LOCATION:STEPS for Recovery\, Cary\, NC\, United States
CATEGORIES:Pelvis Restoration
ATTACH;FMTTYPE=image/jpeg:https://cdn-space2.dbmgo.com/pri/wp-content/uploads/2023/12/01014504/Lori-Pelvis-Restoration-Live-stream-scaled.jpg
END:VEVENT
END:VCALENDAR