BEGIN:VCALENDAR
VERSION:2.0
PRODID:-//Postural Restoration Institute - ECPv6.15.15//NONSGML v1.0//EN
CALSCALE:GREGORIAN
METHOD:PUBLISH
X-ORIGINAL-URL:https://www.posturalrestoration.com
X-WR-CALDESC:Events for Postural Restoration Institute
REFRESH-INTERVAL;VALUE=DURATION:PT1H
X-Robots-Tag:noindex
X-PUBLISHED-TTL:PT1H
BEGIN:VTIMEZONE
TZID:America/Chicago
BEGIN:DAYLIGHT
TZOFFSETFROM:-0600
TZOFFSETTO:-0500
TZNAME:CDT
DTSTART:20250309T080000
END:DAYLIGHT
BEGIN:STANDARD
TZOFFSETFROM:-0500
TZOFFSETTO:-0600
TZNAME:CST
DTSTART:20251102T070000
END:STANDARD
BEGIN:DAYLIGHT
TZOFFSETFROM:-0600
TZOFFSETTO:-0500
TZNAME:CDT
DTSTART:20260308T080000
END:DAYLIGHT
BEGIN:STANDARD
TZOFFSETFROM:-0500
TZOFFSETTO:-0600
TZNAME:CST
DTSTART:20261101T070000
END:STANDARD
BEGIN:DAYLIGHT
TZOFFSETFROM:-0600
TZOFFSETTO:-0500
TZNAME:CDT
DTSTART:20270314T080000
END:DAYLIGHT
BEGIN:STANDARD
TZOFFSETFROM:-0500
TZOFFSETTO:-0600
TZNAME:CST
DTSTART:20271107T070000
END:STANDARD
END:VTIMEZONE
BEGIN:VEVENT
DTSTART;TZID=America/Chicago:20261024T080000
DTEND;TZID=America/Chicago:20261025T170000
DTSTAMP:20260419T080518
CREATED:20251030T161905Z
LAST-MODIFIED:20251030T161905Z
UID:10001172-1792828800-1792947600@www.posturalrestoration.com
SUMMARY:Postural Respiration\, October 24-25\, 2026 (Orange\, CA)
DESCRIPTION:
URL:https://www.posturalrestoration.com/programs-courses/introductory-courses/postural-respiration/?venue=person#10001172
LOCATION:Longevity & Performance Institute PT\, Orange\, CA\, 92867\, United States
CATEGORIES:Postural Respiration
ATTACH;FMTTYPE=image/jpeg:https://cdn-space2.dbmgo.com/pri/wp-content/uploads/2023/12/01014503/Louise-Postural-Respiration-scaled.jpg
END:VEVENT
END:VCALENDAR