BEGIN:VCALENDAR
VERSION:2.0
PRODID:-//Postural Restoration Institute - ECPv6.15.15//NONSGML v1.0//EN
CALSCALE:GREGORIAN
METHOD:PUBLISH
X-ORIGINAL-URL:https://www.posturalrestoration.com
X-WR-CALDESC:Events for Postural Restoration Institute
REFRESH-INTERVAL;VALUE=DURATION:PT1H
X-Robots-Tag:noindex
X-PUBLISHED-TTL:PT1H
BEGIN:VTIMEZONE
TZID:America/Chicago
BEGIN:DAYLIGHT
TZOFFSETFROM:-0600
TZOFFSETTO:-0500
TZNAME:CDT
DTSTART:20160313T080000
END:DAYLIGHT
BEGIN:STANDARD
TZOFFSETFROM:-0500
TZOFFSETTO:-0600
TZNAME:CST
DTSTART:20161106T070000
END:STANDARD
BEGIN:DAYLIGHT
TZOFFSETFROM:-0600
TZOFFSETTO:-0500
TZNAME:CDT
DTSTART:20170312T080000
END:DAYLIGHT
BEGIN:STANDARD
TZOFFSETFROM:-0500
TZOFFSETTO:-0600
TZNAME:CST
DTSTART:20171105T070000
END:STANDARD
BEGIN:DAYLIGHT
TZOFFSETFROM:-0600
TZOFFSETTO:-0500
TZNAME:CDT
DTSTART:20180311T080000
END:DAYLIGHT
BEGIN:STANDARD
TZOFFSETFROM:-0500
TZOFFSETTO:-0600
TZNAME:CST
DTSTART:20181104T070000
END:STANDARD
BEGIN:DAYLIGHT
TZOFFSETFROM:-0600
TZOFFSETTO:-0500
TZNAME:CDT
DTSTART:20190310T080000
END:DAYLIGHT
BEGIN:STANDARD
TZOFFSETFROM:-0500
TZOFFSETTO:-0600
TZNAME:CST
DTSTART:20191103T070000
END:STANDARD
BEGIN:DAYLIGHT
TZOFFSETFROM:-0600
TZOFFSETTO:-0500
TZNAME:CDT
DTSTART:20200308T080000
END:DAYLIGHT
BEGIN:STANDARD
TZOFFSETFROM:-0500
TZOFFSETTO:-0600
TZNAME:CST
DTSTART:20201101T070000
END:STANDARD
BEGIN:DAYLIGHT
TZOFFSETFROM:-0600
TZOFFSETTO:-0500
TZNAME:CDT
DTSTART:20210314T080000
END:DAYLIGHT
BEGIN:STANDARD
TZOFFSETFROM:-0500
TZOFFSETTO:-0600
TZNAME:CST
DTSTART:20211107T070000
END:STANDARD
BEGIN:DAYLIGHT
TZOFFSETFROM:-0600
TZOFFSETTO:-0500
TZNAME:CDT
DTSTART:20220313T080000
END:DAYLIGHT
BEGIN:STANDARD
TZOFFSETFROM:-0500
TZOFFSETTO:-0600
TZNAME:CST
DTSTART:20221106T070000
END:STANDARD
BEGIN:DAYLIGHT
TZOFFSETFROM:-0600
TZOFFSETTO:-0500
TZNAME:CDT
DTSTART:20230312T080000
END:DAYLIGHT
BEGIN:STANDARD
TZOFFSETFROM:-0500
TZOFFSETTO:-0600
TZNAME:CST
DTSTART:20231105T070000
END:STANDARD
BEGIN:DAYLIGHT
TZOFFSETFROM:-0600
TZOFFSETTO:-0500
TZNAME:CDT
DTSTART:20240310T080000
END:DAYLIGHT
BEGIN:STANDARD
TZOFFSETFROM:-0500
TZOFFSETTO:-0600
TZNAME:CST
DTSTART:20241103T070000
END:STANDARD
BEGIN:DAYLIGHT
TZOFFSETFROM:-0600
TZOFFSETTO:-0500
TZNAME:CDT
DTSTART:20250309T080000
END:DAYLIGHT
BEGIN:STANDARD
TZOFFSETFROM:-0500
TZOFFSETTO:-0600
TZNAME:CST
DTSTART:20251102T070000
END:STANDARD
END:VTIMEZONE
BEGIN:VEVENT
DTSTART;TZID=America/Chicago:20240406T080000
DTEND;TZID=America/Chicago:20240407T170000
DTSTAMP:20260419T072844
CREATED:20240124T200009Z
LAST-MODIFIED:20240312T214154Z
UID:10000980-1712390400-1712509200@www.posturalrestoration.com
SUMMARY:Myokinematic Restoration\, April 6-7\, 2024 (St. Paul\, MN)
DESCRIPTION:An Integrated Approach to Treatment of Patterned Lumbo-Pelvic-Femoral Pathomechanics
URL:https://www.posturalrestoration.com/programs-courses/introductory-courses/myokinematic-restoration/?venue=person#10000980
LOCATION:Impact Physical Medicine & Aquatic Center\, St. Paul\, MN\, United States
CATEGORIES:Myokinematic Restoration
ATTACH;FMTTYPE=image/jpeg:https://cdn-space2.dbmgo.com/pri/wp-content/uploads/2023/12/01014503/Craig-Depperschmidt-Myokin-Live-Stream-scaled.jpg
END:VEVENT
BEGIN:VEVENT
DTSTART;TZID=America/Chicago:20211113T080000
DTEND;TZID=America/Chicago:20211114T170000
DTSTAMP:20260419T072844
CREATED:20230916T031112Z
LAST-MODIFIED:20230916T031112Z
UID:10000742-1636790400-1636909200@www.posturalrestoration.com
SUMMARY:Pelvis Restoration\, November 13-14\, 2021 (St. Paul\, MN)
DESCRIPTION:An Integrated Approach to Treatment of Patterned Pubo-Sacral Pathomechanics.
URL:https://www.posturalrestoration.com/programs-courses/introductory-courses/pelvis-restoration/?venue=person#10000742
LOCATION:Impact Physical Medicine & Aquatic Center\, St. Paul\, MN\, United States
CATEGORIES:Pelvis Restoration
ATTACH;FMTTYPE=image/jpeg:https://cdn-space2.dbmgo.com/pri/wp-content/uploads/2023/12/01014504/Lori-Pelvis-Restoration-Live-stream-scaled.jpg
END:VEVENT
BEGIN:VEVENT
DTSTART;TZID=America/Chicago:20191102T080000
DTEND;TZID=America/Chicago:20191103T170000
DTSTAMP:20260419T072844
CREATED:20230915T181120Z
LAST-MODIFIED:20230915T181120Z
UID:10000578-1572681600-1572800400@www.posturalrestoration.com
SUMMARY:Cranial Resolution\, November 2-3\, 2019 (St. Paul\, MN)
DESCRIPTION:An Integrated Approach to the Treatment of Autonomic and Central Nervous System Dysfunctional Oscillation
URL:https://www.posturalrestoration.com/programs-courses/tertiary-courses/cranial-resolution/?venue=person#10000578
LOCATION:Impact Physical Medicine & Aquatic Center\, St. Paul\, MN\, United States
CATEGORIES:Cranial Resolution
ATTACH;FMTTYPE=image/jpeg:https://cdn-space2.dbmgo.com/pri/wp-content/uploads/2024/02/19160109/Cranial-Resolution-Jen-Smart-scaled-e1708380178241.jpg
END:VEVENT
BEGIN:VEVENT
DTSTART;TZID=America/Chicago:20190302T080000
DTEND;TZID=America/Chicago:20190303T170000
DTSTAMP:20260419T072844
CREATED:20230915T170954Z
LAST-MODIFIED:20230915T170954Z
UID:10000535-1551513600-1551632400@www.posturalrestoration.com
SUMMARY:Cervical Revolution\, March 2-3\, 2019 (St. Paul\, MN)
DESCRIPTION:An Integrated Approach to the Treatment of Patterned Cervical Pathomechanics
URL:https://www.posturalrestoration.com/programs-courses/secondary-courses/cervical-revolution/?venue=person#10000535
LOCATION:Impact Physical Medicine & Aquatic Center\, St. Paul\, MN\, United States
CATEGORIES:Cervical Revolution
ATTACH;FMTTYPE=image/jpeg:https://cdn-space2.dbmgo.com/pri/wp-content/uploads/2023/12/01014502/Cervical-Revolution-Louise-scaled.jpg
END:VEVENT
BEGIN:VEVENT
DTSTART;TZID=America/Chicago:20181013T080000
DTEND;TZID=America/Chicago:20181014T170000
DTSTAMP:20260419T072844
CREATED:20230915T075729Z
LAST-MODIFIED:20230915T075729Z
UID:10000434-1539417600-1539536400@www.posturalrestoration.com
SUMMARY:PRI Integration for Geriatrics\, October 13-14\, 2018 (Minneapolis\, MN)
DESCRIPTION:Restoring Alternating Function in the Immobile\, Frail and Chronic
URL:https://www.posturalrestoration.com/courses/misc/integration-for-the-home-health-clinician/?venue=person#10000434
LOCATION:Impact Physical Medicine & Aquatic Center\, St. Paul\, MN\, United States
CATEGORIES:Integration for the Home Health Clinician
END:VEVENT
BEGIN:VEVENT
DTSTART;TZID=America/Chicago:20180519T080000
DTEND;TZID=America/Chicago:20180520T170000
DTSTAMP:20260419T072844
CREATED:20230915T075825Z
LAST-MODIFIED:20230915T075825Z
UID:10000435-1526716800-1526835600@www.posturalrestoration.com
SUMMARY:Impingement & Instability\, May 19-20\, 2018 (Minneapolis\, MN)
DESCRIPTION:A Unique Approach to the Treatment of Common Impingement and Instability Through PRI Reference Center Integration
URL:https://www.posturalrestoration.com/programs-courses/secondary-courses/impingement-instability/?venue=person#10000435
LOCATION:Impact Physical Medicine & Aquatic Center\, St. Paul\, MN\, United States
CATEGORIES:Impingement and Instability
ATTACH;FMTTYPE=image/jpeg:https://cdn-space2.dbmgo.com/pri/wp-content/uploads/2024/03/Impingement-course-page3.jpg
END:VEVENT
BEGIN:VEVENT
DTSTART;TZID=America/Chicago:20170826T080000
DTEND;TZID=America/Chicago:20170827T170000
DTSTAMP:20260419T072844
CREATED:20230915T064710Z
LAST-MODIFIED:20230915T064710Z
UID:10000336-1503734400-1503853200@www.posturalrestoration.com
SUMMARY:Pelvis Restoration\, August 26-27\, 2017 (Minneapolis\, MN)
DESCRIPTION:An Integrated Approach to Treatment of Patterned Pubo-Sacral Pathomechanics.
URL:https://www.posturalrestoration.com/programs-courses/introductory-courses/pelvis-restoration/?venue=person#10000336
LOCATION:Impact Physical Medicine & Aquatic Center\, St. Paul\, MN\, United States
CATEGORIES:Pelvis Restoration
ATTACH;FMTTYPE=image/jpeg:https://cdn-space2.dbmgo.com/pri/wp-content/uploads/2023/12/01014504/Lori-Pelvis-Restoration-Live-stream-scaled.jpg
END:VEVENT
END:VCALENDAR