BEGIN:VCALENDAR
VERSION:2.0
PRODID:-//Postural Restoration Institute - ECPv6.15.15//NONSGML v1.0//EN
CALSCALE:GREGORIAN
METHOD:PUBLISH
X-ORIGINAL-URL:https://www.posturalrestoration.com
X-WR-CALDESC:Events for Postural Restoration Institute
REFRESH-INTERVAL;VALUE=DURATION:PT1H
X-Robots-Tag:noindex
X-PUBLISHED-TTL:PT1H
BEGIN:VTIMEZONE
TZID:America/Chicago
BEGIN:DAYLIGHT
TZOFFSETFROM:-0600
TZOFFSETTO:-0500
TZNAME:CDT
DTSTART:20190310T080000
END:DAYLIGHT
BEGIN:STANDARD
TZOFFSETFROM:-0500
TZOFFSETTO:-0600
TZNAME:CST
DTSTART:20191103T070000
END:STANDARD
BEGIN:DAYLIGHT
TZOFFSETFROM:-0600
TZOFFSETTO:-0500
TZNAME:CDT
DTSTART:20200308T080000
END:DAYLIGHT
BEGIN:STANDARD
TZOFFSETFROM:-0500
TZOFFSETTO:-0600
TZNAME:CST
DTSTART:20201101T070000
END:STANDARD
BEGIN:DAYLIGHT
TZOFFSETFROM:-0600
TZOFFSETTO:-0500
TZNAME:CDT
DTSTART:20210314T080000
END:DAYLIGHT
BEGIN:STANDARD
TZOFFSETFROM:-0500
TZOFFSETTO:-0600
TZNAME:CST
DTSTART:20211107T070000
END:STANDARD
BEGIN:DAYLIGHT
TZOFFSETFROM:-0600
TZOFFSETTO:-0500
TZNAME:CDT
DTSTART:20220313T080000
END:DAYLIGHT
BEGIN:STANDARD
TZOFFSETFROM:-0500
TZOFFSETTO:-0600
TZNAME:CST
DTSTART:20221106T070000
END:STANDARD
BEGIN:DAYLIGHT
TZOFFSETFROM:-0600
TZOFFSETTO:-0500
TZNAME:CDT
DTSTART:20230312T080000
END:DAYLIGHT
BEGIN:STANDARD
TZOFFSETFROM:-0500
TZOFFSETTO:-0600
TZNAME:CST
DTSTART:20231105T070000
END:STANDARD
END:VTIMEZONE
BEGIN:VEVENT
DTSTART;TZID=America/Chicago:20220408T080000
DTEND;TZID=America/Chicago:20220409T170000
DTSTAMP:20260419T071134
CREATED:20230916T040920Z
LAST-MODIFIED:20230916T040920Z
UID:10000824-1649404800-1649523600@www.posturalrestoration.com
SUMMARY:Cranial Resolution\, April 8-9\, 2022 (Live Stream)
DESCRIPTION:An Integrated Approach to the Treatment of Autonomic and Central Nervous System Dysfunctional Oscillation
URL:https://www.posturalrestoration.com/programs-courses/tertiary-courses/cranial-resolution/?venue=person#10000824
LOCATION:United States
CATEGORIES:Cranial Resolution
ATTACH;FMTTYPE=image/jpeg:https://cdn-space2.dbmgo.com/pri/wp-content/uploads/2024/02/19160109/Cranial-Resolution-Jen-Smart-scaled-e1708380178241.jpg
END:VEVENT
BEGIN:VEVENT
DTSTART;TZID=America/Chicago:20220408T080000
DTEND;TZID=America/Chicago:20220409T170000
DTSTAMP:20260419T071134
CREATED:20230916T040912Z
LAST-MODIFIED:20230916T040912Z
UID:10000823-1649404800-1649523600@www.posturalrestoration.com
SUMMARY:Cranial Resolution\, April 8-9\, 2022 (Lincoln\, NE)
DESCRIPTION:An Integrated Approach to the Treatment of Autonomic and Central Nervous System Dysfunctional Oscillation
URL:https://www.posturalrestoration.com/programs-courses/tertiary-courses/cranial-resolution/?venue=person#10000823
LOCATION:United States
CATEGORIES:Cranial Resolution
ATTACH;FMTTYPE=image/jpeg:https://cdn-space2.dbmgo.com/pri/wp-content/uploads/2024/02/19160109/Cranial-Resolution-Jen-Smart-scaled-e1708380178241.jpg
END:VEVENT
BEGIN:VEVENT
DTSTART;TZID=America/Chicago:20220325T080000
DTEND;TZID=America/Chicago:20220326T170000
DTSTAMP:20260419T071134
CREATED:20230916T041347Z
LAST-MODIFIED:20230916T041347Z
UID:10000832-1648195200-1648314000@www.posturalrestoration.com
SUMMARY:Occlusal Cervical Restoration\, March 25-26\, 2022 (Live Stream)
DESCRIPTION:An Interdisciplinary Approach to the Treatment of Patterned Occlusal Pathomechanics
URL:https://www.posturalrestoration.com/programs-courses/tertiary-courses/occlusal-cervical-restoration/?venue=person#10000832
LOCATION:United States
CATEGORIES:Occlusal Cervical Restoration
ATTACH;FMTTYPE=image/jpeg:https://cdn-space2.dbmgo.com/pri/wp-content/uploads/2024/03/21145330/Occlusal-course-photo2-scaled.jpg
END:VEVENT
BEGIN:VEVENT
DTSTART;TZID=America/Chicago:20220325T080000
DTEND;TZID=America/Chicago:20220326T170000
DTSTAMP:20260419T071134
CREATED:20230916T041340Z
LAST-MODIFIED:20230916T041340Z
UID:10000831-1648195200-1648314000@www.posturalrestoration.com
SUMMARY:Occlusal Cervical Restoration\, March 25-26\, 2022 (Lincoln\, NE)
DESCRIPTION:An Interdisciplinary Approach to the Treatment of Patterned Occlusal Pathomechanics
URL:https://www.posturalrestoration.com/programs-courses/tertiary-courses/occlusal-cervical-restoration/?venue=person#10000831
LOCATION:United States
CATEGORIES:Occlusal Cervical Restoration
ATTACH;FMTTYPE=image/jpeg:https://cdn-space2.dbmgo.com/pri/wp-content/uploads/2024/03/21145330/Occlusal-course-photo2-scaled.jpg
END:VEVENT
BEGIN:VEVENT
DTSTART;TZID=America/Chicago:20220211T080000
DTEND;TZID=America/Chicago:20220212T170000
DTSTAMP:20260419T071134
CREATED:20230916T035859Z
LAST-MODIFIED:20230916T035859Z
UID:10000813-1644566400-1644685200@www.posturalrestoration.com
SUMMARY:Primary Non-Manual Techniques Workshop\, February 11-12\, 2022 (Live Stream)
DESCRIPTION:Primary Non-Manual Techniques Workshop
URL:https://www.posturalrestoration.com/programs-courses/tertiary-courses/primary-non-manual-techniques-workshop/?venue=person#10000813
LOCATION:United States
CATEGORIES:Primary Non-Manual Techniques Workshop
ATTACH;FMTTYPE=image/jpeg:https://cdn-space2.dbmgo.com/pri/wp-content/uploads/2024/02/15151605/Non-Manual-Techniques-Workshop-2023-scaled.jpg
END:VEVENT
BEGIN:VEVENT
DTSTART;TZID=America/Chicago:20220211T080000
DTEND;TZID=America/Chicago:20220212T170000
DTSTAMP:20260419T071134
CREATED:20230916T035838Z
LAST-MODIFIED:20230916T035838Z
UID:10000812-1644566400-1644685200@www.posturalrestoration.com
SUMMARY:Primary Non-Manual Techniques Workshop\, February 11-12\, 2022 (Lincoln\, NE)
DESCRIPTION:Primary Non-Manual Techniques Workshop
URL:https://www.posturalrestoration.com/programs-courses/tertiary-courses/primary-non-manual-techniques-workshop/?venue=person#10000812
LOCATION:United States
CATEGORIES:Primary Non-Manual Techniques Workshop
ATTACH;FMTTYPE=image/jpeg:https://cdn-space2.dbmgo.com/pri/wp-content/uploads/2024/02/15151605/Non-Manual-Techniques-Workshop-2023-scaled.jpg
END:VEVENT
BEGIN:VEVENT
DTSTART;TZID=America/Chicago:20220122T080000
DTEND;TZID=America/Chicago:20220123T170000
DTSTAMP:20260419T071134
CREATED:20230916T041653Z
LAST-MODIFIED:20230916T041653Z
UID:10000839-1642838400-1642957200@www.posturalrestoration.com
SUMMARY:Cervical Revolution\, January 22-23\, 2022 (Live Stream)
DESCRIPTION:An Integrated Approach to the Treatment of Patterned Cervical Pathomechanics
URL:https://www.posturalrestoration.com/programs-courses/secondary-courses/cervical-revolution/?venue=person#10000839
LOCATION:United States
CATEGORIES:Cervical Revolution
ATTACH;FMTTYPE=image/jpeg:https://cdn-space2.dbmgo.com/pri/wp-content/uploads/2023/12/01014502/Cervical-Revolution-Louise-scaled.jpg
END:VEVENT
BEGIN:VEVENT
DTSTART;TZID=America/Chicago:20211202T080000
DTEND;TZID=America/Chicago:20211205T170000
DTSTAMP:20260419T071134
CREATED:20230916T032756Z
LAST-MODIFIED:20230916T032756Z
UID:10000786-1638432000-1638723600@www.posturalrestoration.com
SUMMARY:Advanced Integration\, December 2-5\, 2021 (Live Stream)
DESCRIPTION:A Comprehensive Overview of PRI Science Integrated in an Advanced Manner
URL:https://www.posturalrestoration.com/programs-courses/secondary-courses/advanced-integration/?venue=person#10000786
LOCATION:United States
CATEGORIES:Advanced Integration
ATTACH;FMTTYPE=image/jpeg:https://cdn-space2.dbmgo.com/pri/wp-content/uploads/2024/02/15151914/Advanced-Integration-2023-scaled.jpg
END:VEVENT
BEGIN:VEVENT
DTSTART;TZID=America/Chicago:20211202T080000
DTEND;TZID=America/Chicago:20211205T170000
DTSTAMP:20260419T071134
CREATED:20230916T031951Z
LAST-MODIFIED:20230916T031951Z
UID:10000759-1638432000-1638723600@www.posturalrestoration.com
SUMMARY:Advanced Integration\, December 2-5\, 2021 (Lincoln\, NE)
DESCRIPTION:A Comprehensive Overview of PRI Science Integrated in an Advanced Manner
URL:https://www.posturalrestoration.com/programs-courses/secondary-courses/advanced-integration/?venue=person#10000759
LOCATION:United States
CATEGORIES:Advanced Integration
ATTACH;FMTTYPE=image/jpeg:https://cdn-space2.dbmgo.com/pri/wp-content/uploads/2024/02/15151914/Advanced-Integration-2023-scaled.jpg
END:VEVENT
BEGIN:VEVENT
DTSTART;TZID=America/Chicago:20211113T080000
DTEND;TZID=America/Chicago:20211114T170000
DTSTAMP:20260419T071134
CREATED:20230916T032333Z
LAST-MODIFIED:20230916T032333Z
UID:10000773-1636790400-1636909200@www.posturalrestoration.com
SUMMARY:Forward Locomotor Movement\, November 13-14\, 2021 (Lincoln\, NE)
DESCRIPTION:An Introspective Approach to the Treatment of Functional Cortical Predominance
URL:https://www.posturalrestoration.com/programs-courses/tertiary-courses/forward-locomotor-movement/?venue=person#10000773
LOCATION:United States
CATEGORIES:Forward Locomotor Movement
ATTACH;FMTTYPE=image/jpeg:https://cdn-space2.dbmgo.com/pri/wp-content/uploads/2024/03/21144520/Forward-Locomotor-Movement-scaled.jpg
END:VEVENT
BEGIN:VEVENT
DTSTART;TZID=America/Chicago:20211113T080000
DTEND;TZID=America/Chicago:20211114T170000
DTSTAMP:20260419T071134
CREATED:20230916T030527Z
LAST-MODIFIED:20230916T030527Z
UID:10000719-1636790400-1636909200@www.posturalrestoration.com
SUMMARY:Forward Locomotor Movement\, November 13-14\, 2021 (Live Stream)
DESCRIPTION:An Introspective Approach to the Treatment of Functional Cortical Predominance
URL:https://www.posturalrestoration.com/programs-courses/tertiary-courses/forward-locomotor-movement/?venue=person#10000719
LOCATION:United States
CATEGORIES:Forward Locomotor Movement
ATTACH;FMTTYPE=image/jpeg:https://cdn-space2.dbmgo.com/pri/wp-content/uploads/2024/03/21144520/Forward-Locomotor-Movement-scaled.jpg
END:VEVENT
BEGIN:VEVENT
DTSTART;TZID=America/Chicago:20211023T080000
DTEND;TZID=America/Chicago:20211024T170000
DTSTAMP:20260419T071134
CREATED:20230916T035447Z
LAST-MODIFIED:20230916T035447Z
UID:10000809-1634976000-1635094800@www.posturalrestoration.com
SUMMARY:Voice Box Resonation\, October 23-24\, 2021 (Lincoln\, NE)
DESCRIPTION:Voice Box Resonation
URL:https://www.posturalrestoration.com/programs-courses/tertiary-courses/voice-box-resonation/?venue=person#10000809
LOCATION:United States
CATEGORIES:Voice Box Resonation
ATTACH;FMTTYPE=image/jpeg:https://cdn-space2.dbmgo.com/pri/wp-content/uploads/2024/03/21143934/Voice-Box-Resonation-scaled.jpg
END:VEVENT
BEGIN:VEVENT
DTSTART;TZID=America/Chicago:20211023T080000
DTEND;TZID=America/Chicago:20211024T170000
DTSTAMP:20260419T071134
CREATED:20230916T035302Z
LAST-MODIFIED:20230916T035302Z
UID:10000808-1634976000-1635094800@www.posturalrestoration.com
SUMMARY:Voice Box Resonation\, October 23-24\, 2021 (Live Stream)
DESCRIPTION:Voice Box Resonation
URL:https://www.posturalrestoration.com/programs-courses/tertiary-courses/voice-box-resonation/?venue=person#10000808
LOCATION:United States
CATEGORIES:Voice Box Resonation
ATTACH;FMTTYPE=image/jpeg:https://cdn-space2.dbmgo.com/pri/wp-content/uploads/2024/03/21143934/Voice-Box-Resonation-scaled.jpg
END:VEVENT
BEGIN:VEVENT
DTSTART;TZID=America/Chicago:20211008T080000
DTEND;TZID=America/Chicago:20211009T170000
DTSTAMP:20260419T071134
CREATED:20230916T032303Z
LAST-MODIFIED:20230916T032303Z
UID:10000771-1633680000-1633798800@www.posturalrestoration.com
SUMMARY:Occlusal Cervical Restoration\, October 8-9\, 2021 (Lincoln\, NE)
DESCRIPTION:An Interdisciplinary Approach to the Treatment of Patterned Occlusal Pathomechanics
URL:https://www.posturalrestoration.com/programs-courses/tertiary-courses/occlusal-cervical-restoration/?venue=person#10000771
LOCATION:United States
CATEGORIES:Occlusal Cervical Restoration
ATTACH;FMTTYPE=image/jpeg:https://cdn-space2.dbmgo.com/pri/wp-content/uploads/2024/03/21145330/Occlusal-course-photo2-scaled.jpg
END:VEVENT
BEGIN:VEVENT
DTSTART;TZID=America/Chicago:20211008T080000
DTEND;TZID=America/Chicago:20211009T170000
DTSTAMP:20260419T071134
CREATED:20230916T030333Z
LAST-MODIFIED:20230916T030333Z
UID:10000717-1633680000-1633798800@www.posturalrestoration.com
SUMMARY:Occlusal Cervical Restoration\, October 8-9\, 2021 (Live Stream)
DESCRIPTION:An Interdisciplinary Approach to the Treatment of Patterned Occlusal Pathomechanics
URL:https://www.posturalrestoration.com/programs-courses/tertiary-courses/occlusal-cervical-restoration/?venue=person#10000717
LOCATION:United States
CATEGORIES:Occlusal Cervical Restoration
ATTACH;FMTTYPE=image/jpeg:https://cdn-space2.dbmgo.com/pri/wp-content/uploads/2024/03/21145330/Occlusal-course-photo2-scaled.jpg
END:VEVENT
BEGIN:VEVENT
DTSTART;TZID=America/Chicago:20210604T113900
DTEND;TZID=America/Chicago:20210605T113900
DTSTAMP:20260419T071134
CREATED:20230916T030751Z
LAST-MODIFIED:20230916T030751Z
UID:10000725-1622806740-1622893140@www.posturalrestoration.com
SUMMARY:Secondary and Tertiary Non-Manual Techniques Workshop\, June 4-5\, 2021 (Lincoln\, NE)
DESCRIPTION:Secondary and Tertiary PRI Non-Manual Techniques Workshop
URL:https://www.posturalrestoration.com/courses/misc/non-manual-techniques-workshop-secondary-and-tertiary/?venue=person#10000725
LOCATION:United States
CATEGORIES:Non Manual Techniques Workshop (Secondary and Tertiary)
END:VEVENT
BEGIN:VEVENT
DTSTART;TZID=America/Chicago:20210604T080000
DTEND;TZID=America/Chicago:20210605T170000
DTSTAMP:20260419T071134
CREATED:20230916T030701Z
LAST-MODIFIED:20230916T030701Z
UID:10000724-1622793600-1622912400@www.posturalrestoration.com
SUMMARY:Secondary and Tertiary Non-Manual Techniques Workshop\, June 4-5\, 2021 (Live Stream)
DESCRIPTION:Secondary and Tertiary Non-Manual Techniques Workshop
URL:https://www.posturalrestoration.com/courses/misc/non-manual-techniques-workshop-secondary-and-tertiary/?venue=person#10000724
LOCATION:United States
CATEGORIES:Non Manual Techniques Workshop (Secondary and Tertiary)
END:VEVENT
BEGIN:VEVENT
DTSTART;TZID=America/Chicago:20210522T080000
DTEND;TZID=America/Chicago:20210523T170000
DTSTAMP:20260419T071134
CREATED:20230916T032312Z
LAST-MODIFIED:20230916T032312Z
UID:10000772-1621670400-1621789200@www.posturalrestoration.com
SUMMARY:Forward Locomotor Movement\, May 22-23\, 2021 (Lincoln\, NE)
DESCRIPTION:An Introspective Approach to the Treatment of Functional Cortical Predominance
URL:https://www.posturalrestoration.com/programs-courses/tertiary-courses/forward-locomotor-movement/?venue=person#10000772
LOCATION:United States
CATEGORIES:Forward Locomotor Movement
ATTACH;FMTTYPE=image/jpeg:https://cdn-space2.dbmgo.com/pri/wp-content/uploads/2024/03/21144520/Forward-Locomotor-Movement-scaled.jpg
END:VEVENT
BEGIN:VEVENT
DTSTART;TZID=America/Chicago:20210522T080000
DTEND;TZID=America/Chicago:20210523T170000
DTSTAMP:20260419T071134
CREATED:20230916T030419Z
LAST-MODIFIED:20230916T030419Z
UID:10000718-1621670400-1621789200@www.posturalrestoration.com
SUMMARY:Forward Locomotor Movement\, May 22-23\, 2021 (Live Stream)
DESCRIPTION:An Introspective Approach to the Treatment of Functional Cortical Predominance
URL:https://www.posturalrestoration.com/programs-courses/tertiary-courses/forward-locomotor-movement/?venue=person#10000718
LOCATION:United States
CATEGORIES:Forward Locomotor Movement
ATTACH;FMTTYPE=image/jpeg:https://cdn-space2.dbmgo.com/pri/wp-content/uploads/2024/03/21144520/Forward-Locomotor-Movement-scaled.jpg
END:VEVENT
BEGIN:VEVENT
DTSTART;TZID=America/Chicago:20210422T080000
DTEND;TZID=America/Chicago:20210423T170000
DTSTAMP:20260419T071134
CREATED:20230916T032556Z
LAST-MODIFIED:20230916T032556Z
UID:10000785-1619078400-1619197200@www.posturalrestoration.com
SUMMARY:Interdisciplinary Integration\, April 22-23\, 2021 (Live Stream)
DESCRIPTION:13th Annual Interdisciplinary Integration Symposium\nBasal Ganglia Disease – An Interdisiplinary Approach in the Management of Kinesia Paradoxica
URL:https://www.posturalrestoration.com/courses/misc/interdisciplinary-integration/?venue=person#10000785
LOCATION:United States
CATEGORIES:Interdisciplinary Integration
END:VEVENT
BEGIN:VEVENT
DTSTART;TZID=America/Chicago:20210422T080000
DTEND;TZID=America/Chicago:20210423T170000
DTSTAMP:20260419T071134
CREATED:20230915T193730Z
LAST-MODIFIED:20230915T193730Z
UID:10000589-1619078400-1619197200@www.posturalrestoration.com
SUMMARY:Interdisciplinary Integration\, April 22-23\, 2021 (Lincoln\, NE)
DESCRIPTION:Extrapyramidal Disorders: An Interdisciplinary Approach in the Management of Involuntary Movement
URL:https://www.posturalrestoration.com/courses/misc/interdisciplinary-integration/?venue=person#10000589
LOCATION:United States
CATEGORIES:Interdisciplinary Integration
END:VEVENT
BEGIN:VEVENT
DTSTART;TZID=America/Chicago:20210410T080000
DTEND;TZID=America/Chicago:20210411T170000
DTSTAMP:20260419T071134
CREATED:20230916T032239Z
LAST-MODIFIED:20230916T032239Z
UID:10000769-1618041600-1618160400@www.posturalrestoration.com
SUMMARY:Cranial Resolution\, April 10-11\, 2021 (Lincoln\, NE)
DESCRIPTION:An Integrated Approach to the Treatment of Autonomic and Central Nervous System Dysfunctional Oscillation
URL:https://www.posturalrestoration.com/programs-courses/tertiary-courses/cranial-resolution/?venue=person#10000769
LOCATION:United States
CATEGORIES:Cranial Resolution
ATTACH;FMTTYPE=image/jpeg:https://cdn-space2.dbmgo.com/pri/wp-content/uploads/2024/02/19160109/Cranial-Resolution-Jen-Smart-scaled-e1708380178241.jpg
END:VEVENT
BEGIN:VEVENT
DTSTART;TZID=America/Chicago:20210410T080000
DTEND;TZID=America/Chicago:20210411T170000
DTSTAMP:20260419T071134
CREATED:20230916T030059Z
LAST-MODIFIED:20230916T030059Z
UID:10000715-1618041600-1618160400@www.posturalrestoration.com
SUMMARY:Cranial Resolution\, April 10-11\, 2021 (Live Stream)
DESCRIPTION:An Integrated Approach to the Treatment of Autonomic and Central Nervous System Dysfunctional Oscillation
URL:https://www.posturalrestoration.com/programs-courses/tertiary-courses/cranial-resolution/?venue=person#10000715
LOCATION:United States
CATEGORIES:Cranial Resolution
ATTACH;FMTTYPE=image/jpeg:https://cdn-space2.dbmgo.com/pri/wp-content/uploads/2024/02/19160109/Cranial-Resolution-Jen-Smart-scaled-e1708380178241.jpg
END:VEVENT
BEGIN:VEVENT
DTSTART;TZID=America/Chicago:20210313T080000
DTEND;TZID=America/Chicago:20210314T170000
DTSTAMP:20260419T071134
CREATED:20230916T032251Z
LAST-MODIFIED:20230916T032251Z
UID:10000770-1615622400-1615741200@www.posturalrestoration.com
SUMMARY:Occlusal Cervical Restoration\, March 13-14\, 2021 (Lincoln\, NE)
DESCRIPTION:An Interdisciplinary Approach to the Treatment of Patterned Occlusal Pathomechanics
URL:https://www.posturalrestoration.com/programs-courses/tertiary-courses/occlusal-cervical-restoration/?venue=person#10000770
LOCATION:United States
CATEGORIES:Occlusal Cervical Restoration
ATTACH;FMTTYPE=image/jpeg:https://cdn-space2.dbmgo.com/pri/wp-content/uploads/2024/03/21145330/Occlusal-course-photo2-scaled.jpg
END:VEVENT
BEGIN:VEVENT
DTSTART;TZID=America/Chicago:20210313T080000
DTEND;TZID=America/Chicago:20210314T170000
DTSTAMP:20260419T071134
CREATED:20230916T030134Z
LAST-MODIFIED:20230916T030134Z
UID:10000716-1615622400-1615741200@www.posturalrestoration.com
SUMMARY:Occlusal Cervical Restoration\, March 13-14\, 2021 (Live Stream)
DESCRIPTION:An Interdisciplinary Approach to the Treatment of Patterned Occlusal Pathomechanics
URL:https://www.posturalrestoration.com/programs-courses/tertiary-courses/occlusal-cervical-restoration/?venue=person#10000716
LOCATION:United States
CATEGORIES:Occlusal Cervical Restoration
ATTACH;FMTTYPE=image/jpeg:https://cdn-space2.dbmgo.com/pri/wp-content/uploads/2024/03/21145330/Occlusal-course-photo2-scaled.jpg
END:VEVENT
BEGIN:VEVENT
DTSTART;TZID=America/Chicago:20210206T080000
DTEND;TZID=America/Chicago:20210207T170000
DTSTAMP:20260419T071134
CREATED:20230916T032519Z
LAST-MODIFIED:20230916T032519Z
UID:10000783-1612598400-1612717200@www.posturalrestoration.com
SUMMARY:Cervical Revolution\, February 6-7\, 2021 (Lincoln\, NE)
DESCRIPTION:An Integrated Approach to the Treatment of Patterned Cervical Pathomechanics
URL:https://www.posturalrestoration.com/programs-courses/secondary-courses/cervical-revolution/?venue=person#10000783
LOCATION:United States
CATEGORIES:Cervical Revolution
ATTACH;FMTTYPE=image/jpeg:https://cdn-space2.dbmgo.com/pri/wp-content/uploads/2023/12/01014502/Cervical-Revolution-Louise-scaled.jpg
END:VEVENT
BEGIN:VEVENT
DTSTART;TZID=America/Chicago:20210206T080000
DTEND;TZID=America/Chicago:20210207T170000
DTSTAMP:20260419T071134
CREATED:20230916T025737Z
LAST-MODIFIED:20230916T025737Z
UID:10000713-1612598400-1612717200@www.posturalrestoration.com
SUMMARY:Cervical Revolution\, February 6-7\, 2021 (Live Stream)
DESCRIPTION:An Integrated Approach to the Treatment of Patterned Cervical Pathomechanics
URL:https://www.posturalrestoration.com/programs-courses/secondary-courses/cervical-revolution/?venue=person#10000713
LOCATION:United States
CATEGORIES:Cervical Revolution
ATTACH;FMTTYPE=image/jpeg:https://cdn-space2.dbmgo.com/pri/wp-content/uploads/2023/12/01014502/Cervical-Revolution-Louise-scaled.jpg
END:VEVENT
BEGIN:VEVENT
DTSTART;TZID=America/Chicago:20210129T080000
DTEND;TZID=America/Chicago:20210130T170000
DTSTAMP:20260419T071134
CREATED:20230916T031329Z
LAST-MODIFIED:20230916T031329Z
UID:10000748-1611907200-1612026000@www.posturalrestoration.com
SUMMARY:Primary Non-Manual Techniques Workshop\, January 29-30\, 2021 (Live Stream)
DESCRIPTION:PRI Non-Manual Techniques Workshop
URL:https://www.posturalrestoration.com/programs-courses/tertiary-courses/primary-non-manual-techniques-workshop/?venue=person#10000748
LOCATION:United States
CATEGORIES:Primary Non-Manual Techniques Workshop
ATTACH;FMTTYPE=image/jpeg:https://cdn-space2.dbmgo.com/pri/wp-content/uploads/2024/02/15151605/Non-Manual-Techniques-Workshop-2023-scaled.jpg
END:VEVENT
BEGIN:VEVENT
DTSTART;TZID=America/Chicago:20210129T080000
DTEND;TZID=America/Chicago:20210130T170000
DTSTAMP:20260419T071134
CREATED:20230916T031321Z
LAST-MODIFIED:20230916T031321Z
UID:10000747-1611907200-1612026000@www.posturalrestoration.com
SUMMARY:Primary Non-Manual Techniques Workshop\, January 29-30\, 2021 (Lincoln\, NE)
DESCRIPTION:PRI Non-Manual Techniques Workshop
URL:https://www.posturalrestoration.com/programs-courses/tertiary-courses/primary-non-manual-techniques-workshop/?venue=person#10000747
LOCATION:United States
CATEGORIES:Primary Non-Manual Techniques Workshop
ATTACH;FMTTYPE=image/jpeg:https://cdn-space2.dbmgo.com/pri/wp-content/uploads/2024/02/15151605/Non-Manual-Techniques-Workshop-2023-scaled.jpg
END:VEVENT
BEGIN:VEVENT
DTSTART;TZID=America/Chicago:20201203T080000
DTEND;TZID=America/Chicago:20201206T170000
DTSTAMP:20260419T071134
CREATED:20230915T233640Z
LAST-MODIFIED:20230915T233640Z
UID:10000698-1606982400-1607274000@www.posturalrestoration.com
SUMMARY:Advanced Integration\, December 3-6\, 2020 (Live Stream)
DESCRIPTION:A Comprehensive Overview of PRI Science Integrated in an Advanced Manner
URL:https://www.posturalrestoration.com/programs-courses/secondary-courses/advanced-integration/?venue=person#10000698
LOCATION:United States
CATEGORIES:Advanced Integration
ATTACH;FMTTYPE=image/jpeg:https://cdn-space2.dbmgo.com/pri/wp-content/uploads/2024/02/15151914/Advanced-Integration-2023-scaled.jpg
END:VEVENT
END:VCALENDAR