BEGIN:VCALENDAR
VERSION:2.0
PRODID:-//Postural Restoration Institute - ECPv6.15.15//NONSGML v1.0//EN
CALSCALE:GREGORIAN
METHOD:PUBLISH
X-WR-CALNAME:Postural Restoration Institute
X-ORIGINAL-URL:https://www.posturalrestoration.com
X-WR-CALDESC:Events for Postural Restoration Institute
REFRESH-INTERVAL;VALUE=DURATION:PT1H
X-Robots-Tag:noindex
X-PUBLISHED-TTL:PT1H
BEGIN:VTIMEZONE
TZID:America/Chicago
BEGIN:DAYLIGHT
TZOFFSETFROM:-0600
TZOFFSETTO:-0500
TZNAME:CDT
DTSTART:20120311T080000
END:DAYLIGHT
BEGIN:STANDARD
TZOFFSETFROM:-0500
TZOFFSETTO:-0600
TZNAME:CST
DTSTART:20121104T070000
END:STANDARD
BEGIN:DAYLIGHT
TZOFFSETFROM:-0600
TZOFFSETTO:-0500
TZNAME:CDT
DTSTART:20130310T080000
END:DAYLIGHT
BEGIN:STANDARD
TZOFFSETFROM:-0500
TZOFFSETTO:-0600
TZNAME:CST
DTSTART:20131103T070000
END:STANDARD
BEGIN:DAYLIGHT
TZOFFSETFROM:-0600
TZOFFSETTO:-0500
TZNAME:CDT
DTSTART:20140309T080000
END:DAYLIGHT
BEGIN:STANDARD
TZOFFSETFROM:-0500
TZOFFSETTO:-0600
TZNAME:CST
DTSTART:20141102T070000
END:STANDARD
BEGIN:DAYLIGHT
TZOFFSETFROM:-0600
TZOFFSETTO:-0500
TZNAME:CDT
DTSTART:20150308T080000
END:DAYLIGHT
BEGIN:STANDARD
TZOFFSETFROM:-0500
TZOFFSETTO:-0600
TZNAME:CST
DTSTART:20151101T070000
END:STANDARD
END:VTIMEZONE
BEGIN:VEVENT
DTSTART;TZID=America/Chicago:20140208T080000
DTEND;TZID=America/Chicago:20140209T170000
DTSTAMP:20260419T212601
CREATED:20230915T025852Z
LAST-MODIFIED:20230915T025852Z
UID:10000052-1391846400-1391965200@www.posturalrestoration.com
SUMMARY:Cervical-Cranio-Mandibular Restoration Philadelphia\, PA Feb. 8-9th
DESCRIPTION:An Integrated Approach to Treatment of Patterned Temporomandibular and Cervical Dysfunction
URL:https://www.posturalrestoration.com/programs-courses/secondary-courses/cervical-revolution/?venue=person#10000052
LOCATION:Endeavor Sports Performance\, Philadelphia\, PA\, United States
CATEGORIES:Cervical Revolution
ATTACH;FMTTYPE=image/jpeg:https://cdn-space2.dbmgo.com/pri/wp-content/uploads/2023/12/01014502/Cervical-Revolution-Louise-scaled.jpg
END:VEVENT
BEGIN:VEVENT
DTSTART;TZID=America/Chicago:20140111T080000
DTEND;TZID=America/Chicago:20140112T170000
DTSTAMP:20260419T212601
CREATED:20230915T025355Z
LAST-MODIFIED:20230915T025355Z
UID:10000039-1389427200-1389546000@www.posturalrestoration.com
SUMMARY:Impingement & Instability Lincoln\, NE Jan. 11-12th
DESCRIPTION:A Unique Approach to the Treatment of Common Impingement and Instability Through PRI Reference Center Integration
URL:https://www.posturalrestoration.com/programs-courses/secondary-courses/impingement-instability/?venue=person#10000039
LOCATION:United States
CATEGORIES:Impingement and Instability
ATTACH;FMTTYPE=image/jpeg:https://cdn-space2.dbmgo.com/pri/wp-content/uploads/2024/03/Impingement-course-page3.jpg
END:VEVENT
BEGIN:VEVENT
DTSTART;TZID=America/Chicago:20131205T080000
DTEND;TZID=America/Chicago:20131208T170000
DTSTAMP:20260419T212601
CREATED:20230915T023844Z
LAST-MODIFIED:20230915T023844Z
UID:10000026-1386230400-1386522000@www.posturalrestoration.com
SUMMARY:Advanced Integration
DESCRIPTION:A Comprehensive Overview of PRI Science Integrated in an Advanced Manner
URL:https://www.posturalrestoration.com/programs-courses/secondary-courses/advanced-integration/?venue=person#10000026
LOCATION:United States
CATEGORIES:Advanced Integration
ATTACH;FMTTYPE=image/jpeg:https://cdn-space2.dbmgo.com/pri/wp-content/uploads/2024/02/15151914/Advanced-Integration-2023-scaled.jpg
END:VEVENT
BEGIN:VEVENT
DTSTART;TZID=America/Chicago:20131123T080000
DTEND;TZID=America/Chicago:20131124T170000
DTSTAMP:20260419T212601
CREATED:20230915T025649Z
LAST-MODIFIED:20230915T025649Z
UID:10000046-1385193600-1385312400@www.posturalrestoration.com
SUMMARY:Postural-Visual Integration
DESCRIPTION:Moving Beyond Sight
URL:https://www.posturalrestoration.com/courses/misc/postural-visual-integration/?venue=person#10000046
LOCATION:East Valley Spine and Sports Medicine Center\, Chandler\, AZ\, United States
CATEGORIES:Postural-Visual Integration
END:VEVENT
BEGIN:VEVENT
DTSTART;TZID=America/Chicago:20131109T080000
DTEND;TZID=America/Chicago:20131110T170000
DTSTAMP:20260419T212601
CREATED:20230915T025324Z
LAST-MODIFIED:20230915T025324Z
UID:10000036-1383984000-1384102800@www.posturalrestoration.com
SUMMARY:Cervical-Cranio-Mandibular Restoration Salem
DESCRIPTION:An Integrated Approach to Treatment of Patterned Temporomandibular and Cervical Dysfunction
URL:https://www.posturalrestoration.com/programs-courses/secondary-courses/cervical-revolution/?venue=person#10000036
LOCATION:Salem Health\, 2561 Center Street NE\, Salem\, OR\, 97309\, United States
CATEGORIES:Cervical Revolution
ATTACH;FMTTYPE=image/jpeg:https://cdn-space2.dbmgo.com/pri/wp-content/uploads/2023/12/01014502/Cervical-Revolution-Louise-scaled.jpg
END:VEVENT
BEGIN:VEVENT
DTSTART;TZID=America/Chicago:20131005T080000
DTEND;TZID=America/Chicago:20131006T170000
DTSTAMP:20260419T212601
CREATED:20230915T021324Z
LAST-MODIFIED:20230915T021324Z
UID:10000015-1380960000-1381078800@www.posturalrestoration.com
SUMMARY:Myokinematic Restoration - New York\, NY- Oct. 5-6\, 2014
DESCRIPTION:An Integrated Approach to the Treatment of Patterned Lumbo-Pelvic-Femoral Pathomechanics
URL:https://www.posturalrestoration.com/programs-courses/introductory-courses/myokinematic-restoration/?venue=person#10000015
LOCATION:Finish Line Physical Therapy\, New York\, NY\, United States
CATEGORIES:Myokinematic Restoration
ATTACH;FMTTYPE=image/jpeg:https://cdn-space2.dbmgo.com/pri/wp-content/uploads/2023/12/01014503/Craig-Depperschmidt-Myokin-Live-Stream-scaled.jpg
END:VEVENT
BEGIN:VEVENT
DTSTART;TZID=America/Chicago:20130927T080000
DTEND;TZID=America/Chicago:20130928T170000
DTSTAMP:20260419T212601
CREATED:20230915T024843Z
LAST-MODIFIED:20230915T024843Z
UID:10000028-1380268800-1380387600@www.posturalrestoration.com
SUMMARY:Postural Respiration - Lincoln\, NE- Sept. 27-28\, 2013
DESCRIPTION:An Integrated Approach to Treatment of Patterned Thoraco-Abdominal Pathomechanics
URL:https://www.posturalrestoration.com/programs-courses/introductory-courses/postural-respiration/?venue=person#10000028
LOCATION:United States
CATEGORIES:Postural Respiration
ATTACH;FMTTYPE=image/jpeg:https://cdn-space2.dbmgo.com/pri/wp-content/uploads/2023/12/01014503/Louise-Postural-Respiration-scaled.jpg
END:VEVENT
BEGIN:VEVENT
DTSTART;TZID=America/Chicago:20130914T080000
DTEND;TZID=America/Chicago:20130915T170000
DTSTAMP:20260419T212601
CREATED:20230915T025338Z
LAST-MODIFIED:20230915T025338Z
UID:10000037-1379145600-1379264400@www.posturalrestoration.com
SUMMARY:Impingement & Instability - Seattle\, WA
DESCRIPTION:A Unique Approach to the Treatment of Common Impingement and Instability Through PRI Reference Center Integration
URL:https://www.posturalrestoration.com/programs-courses/secondary-courses/impingement-instability/?venue=person#10000037
LOCATION:Olympic Physical Therapy\, Seattle\, WA\, United States
CATEGORIES:Impingement and Instability
ATTACH;FMTTYPE=image/jpeg:https://cdn-space2.dbmgo.com/pri/wp-content/uploads/2024/03/Impingement-course-page3.jpg
END:VEVENT
END:VCALENDAR