BEGIN:VCALENDAR
VERSION:2.0
PRODID:-//Postural Restoration Institute - ECPv6.15.15//NONSGML v1.0//EN
CALSCALE:GREGORIAN
METHOD:PUBLISH
X-WR-CALNAME:Postural Restoration Institute
X-ORIGINAL-URL:https://www.posturalrestoration.com
X-WR-CALDESC:Events for Postural Restoration Institute
REFRESH-INTERVAL;VALUE=DURATION:PT1H
X-Robots-Tag:noindex
X-PUBLISHED-TTL:PT1H
BEGIN:VTIMEZONE
TZID:America/Chicago
BEGIN:DAYLIGHT
TZOFFSETFROM:-0600
TZOFFSETTO:-0500
TZNAME:CDT
DTSTART:20120311T080000
END:DAYLIGHT
BEGIN:STANDARD
TZOFFSETFROM:-0500
TZOFFSETTO:-0600
TZNAME:CST
DTSTART:20121104T070000
END:STANDARD
BEGIN:DAYLIGHT
TZOFFSETFROM:-0600
TZOFFSETTO:-0500
TZNAME:CDT
DTSTART:20130310T080000
END:DAYLIGHT
BEGIN:STANDARD
TZOFFSETFROM:-0500
TZOFFSETTO:-0600
TZNAME:CST
DTSTART:20131103T070000
END:STANDARD
BEGIN:DAYLIGHT
TZOFFSETFROM:-0600
TZOFFSETTO:-0500
TZNAME:CDT
DTSTART:20140309T080000
END:DAYLIGHT
BEGIN:STANDARD
TZOFFSETFROM:-0500
TZOFFSETTO:-0600
TZNAME:CST
DTSTART:20141102T070000
END:STANDARD
BEGIN:DAYLIGHT
TZOFFSETFROM:-0600
TZOFFSETTO:-0500
TZNAME:CDT
DTSTART:20150308T080000
END:DAYLIGHT
BEGIN:STANDARD
TZOFFSETFROM:-0500
TZOFFSETTO:-0600
TZNAME:CST
DTSTART:20151101T070000
END:STANDARD
BEGIN:DAYLIGHT
TZOFFSETFROM:-0600
TZOFFSETTO:-0500
TZNAME:CDT
DTSTART:20160313T080000
END:DAYLIGHT
BEGIN:STANDARD
TZOFFSETFROM:-0500
TZOFFSETTO:-0600
TZNAME:CST
DTSTART:20161106T070000
END:STANDARD
BEGIN:DAYLIGHT
TZOFFSETFROM:-0600
TZOFFSETTO:-0500
TZNAME:CDT
DTSTART:20170312T080000
END:DAYLIGHT
BEGIN:STANDARD
TZOFFSETFROM:-0500
TZOFFSETTO:-0600
TZNAME:CST
DTSTART:20171105T070000
END:STANDARD
END:VTIMEZONE
BEGIN:VEVENT
DTSTART;TZID=America/Chicago:20160130T080000
DTEND;TZID=America/Chicago:20160131T170000
DTSTAMP:20260419T183150
CREATED:20230915T055913Z
LAST-MODIFIED:20230915T055913Z
UID:10000273-1454140800-1454259600@www.posturalrestoration.com
SUMMARY:PRI Aquatics\, January 30-31\, 2016\, Essex Junction\, VT
DESCRIPTION: An Integrated Treatment Approach Using Water for Neurodynamic Sensory Repatterning
URL:https://www.posturalrestoration.com/courses/misc/pri-aquatics/?venue=person#10000273
LOCATION:Essex Physical Therapy\, Essex Center\, VT\, United States
CATEGORIES:PRI Aquatics
END:VEVENT
BEGIN:VEVENT
DTSTART;TZID=America/Chicago:20160116T080000
DTEND;TZID=America/Chicago:20160117T170000
DTSTAMP:20260419T183150
CREATED:20230915T054523Z
LAST-MODIFIED:20230915T054523Z
UID:10000247-1452931200-1453050000@www.posturalrestoration.com
SUMMARY:Cervical Revolution\, Austin\, TX - January 16-17\, 2016
DESCRIPTION:Cervical Revolution – An Integrated Approach to the Treatment of Patterned Cervical Pathomechanics
URL:https://www.posturalrestoration.com/programs-courses/secondary-courses/cervical-revolution/?venue=person#10000247
LOCATION:STAR Physical Therapy\, Austin\, TX\, United States
CATEGORIES:Cervical Revolution
ATTACH;FMTTYPE=image/jpeg:https://cdn-space2.dbmgo.com/pri/wp-content/uploads/2023/12/01014502/Cervical-Revolution-Louise-scaled.jpg
END:VEVENT
BEGIN:VEVENT
DTSTART;TZID=America/Chicago:20160109T080000
DTEND;TZID=America/Chicago:20160110T170000
DTSTAMP:20260419T183150
CREATED:20230915T051614Z
LAST-MODIFIED:20230915T051614Z
UID:10000189-1452326400-1452445200@www.posturalrestoration.com
SUMMARY:Impingment and Instabilitty\, Lincoln\, NE January 9-10\, 2016
DESCRIPTION:Impingement & Instability-A Unique Approach to the Treatment of Common Impingement and Instability Through PRI Reference Center Integration
URL:https://www.posturalrestoration.com/programs-courses/secondary-courses/impingement-instability/?venue=person#10000189
LOCATION:United States
CATEGORIES:Impingement and Instability
ATTACH;FMTTYPE=image/jpeg:https://cdn-space2.dbmgo.com/pri/wp-content/uploads/2024/03/Impingement-course-page3.jpg
END:VEVENT
BEGIN:VEVENT
DTSTART;TZID=America/Chicago:20151203T080000
DTEND;TZID=America/Chicago:20151206T170000
DTSTAMP:20260419T183150
CREATED:20230915T050621Z
LAST-MODIFIED:20230915T050621Z
UID:10000183-1449129600-1449421200@www.posturalrestoration.com
SUMMARY:Advanced Integration Lincoln\, NE December 3-6\, 2015
DESCRIPTION:Advanced Integration – A Comprehensive Overview of PRI Science Integrated in an Advanced Manner
URL:https://www.posturalrestoration.com/programs-courses/secondary-courses/advanced-integration/?venue=person#10000183
LOCATION:United States
CATEGORIES:Advanced Integration
ATTACH;FMTTYPE=image/jpeg:https://cdn-space2.dbmgo.com/pri/wp-content/uploads/2024/02/15151914/Advanced-Integration-2023-scaled.jpg
END:VEVENT
BEGIN:VEVENT
DTSTART;TZID=America/Chicago:20151107T080000
DTEND;TZID=America/Chicago:20151108T170000
DTSTAMP:20260419T183150
CREATED:20230915T045756Z
LAST-MODIFIED:20230915T045756Z
UID:10000162-1446883200-1447002000@www.posturalrestoration.com
SUMMARY:Cervical Revolution - November 7-8\, 2015 Seattle\, WA
DESCRIPTION:Cervical Revolution – An Integrated Approach to the Treatment of Patterned Cervical Pathomechanics.
URL:https://www.posturalrestoration.com/programs-courses/secondary-courses/cervical-revolution/?venue=person#10000162
LOCATION:Olympic Physical Therapy\, Seattle\, WA\, United States
CATEGORIES:Cervical Revolution
ATTACH;FMTTYPE=image/jpeg:https://cdn-space2.dbmgo.com/pri/wp-content/uploads/2023/12/01014502/Cervical-Revolution-Louise-scaled.jpg
END:VEVENT
BEGIN:VEVENT
DTSTART;TZID=America/Chicago:20151003T080000
DTEND;TZID=America/Chicago:20151004T170000
DTSTAMP:20260419T183150
CREATED:20230915T050842Z
LAST-MODIFIED:20230915T050842Z
UID:10000185-1443859200-1443978000@www.posturalrestoration.com
SUMMARY:Cervical Revolution-San Diego\, CA Oct 3-4\, 2015
DESCRIPTION:Cervical Revolution- An Integrated Approach to the Treatment of Patterned Cervical Pathomechanics
URL:https://www.posturalrestoration.com/programs-courses/secondary-courses/cervical-revolution/?venue=person#10000185
LOCATION:Water & Sports Physical Therapy\, San Diego\, CA\, United States
CATEGORIES:Cervical Revolution
ATTACH;FMTTYPE=image/jpeg:https://cdn-space2.dbmgo.com/pri/wp-content/uploads/2023/12/01014502/Cervical-Revolution-Louise-scaled.jpg
END:VEVENT
BEGIN:VEVENT
DTSTART;TZID=America/Chicago:20150926T080000
DTEND;TZID=America/Chicago:20150927T170000
DTSTAMP:20260419T183150
CREATED:20230915T051549Z
LAST-MODIFIED:20230915T051549Z
UID:10000188-1443254400-1443373200@www.posturalrestoration.com
SUMMARY:Cervical Revolution\, New York\, NY September 26-27\, 2015
DESCRIPTION:Cervical Revolution-An Integrated Approach to the Treatment of Patterned Cervical Pathomechanics
URL:https://www.posturalrestoration.com/programs-courses/secondary-courses/cervical-revolution/?venue=person#10000188
LOCATION:Jewish Community Center Manhattan\, New York\, NY\, United States
CATEGORIES:Cervical Revolution
ATTACH;FMTTYPE=image/jpeg:https://cdn-space2.dbmgo.com/pri/wp-content/uploads/2023/12/01014502/Cervical-Revolution-Louise-scaled.jpg
END:VEVENT
BEGIN:VEVENT
DTSTART;TZID=America/Chicago:20150919T080000
DTEND;TZID=America/Chicago:20150920T170000
DTSTAMP:20260419T183150
CREATED:20230915T045732Z
LAST-MODIFIED:20230915T045732Z
UID:10000161-1442649600-1442768400@www.posturalrestoration.com
SUMMARY:Cervical Revolution - September 19-20\, 2015 New York\, NY
DESCRIPTION:Cervical Revolution – An Integrated Approach to the Treatment of Patterned Cervical Pathomechanics.
URL:https://www.posturalrestoration.com/programs-courses/secondary-courses/cervical-revolution/?venue=person#10000161
LOCATION:Finish Line Physical Therapy\, New York\, NY\, United States
CATEGORIES:Cervical Revolution
ATTACH;FMTTYPE=image/jpeg:https://cdn-space2.dbmgo.com/pri/wp-content/uploads/2023/12/01014502/Cervical-Revolution-Louise-scaled.jpg
END:VEVENT
BEGIN:VEVENT
DTSTART;TZID=America/Chicago:20150731T080000
DTEND;TZID=America/Chicago:20150801T170000
DTSTAMP:20260419T183150
CREATED:20230915T051521Z
LAST-MODIFIED:20230915T051521Z
UID:10000187-1438329600-1438448400@www.posturalrestoration.com
SUMMARY:Myokinematic Restoration - July 31-August 1\, 2015 Kearney\, NE
DESCRIPTION:Myokinematic Restoration-An Integrated Approach to Treatment of Patterned Lumbo-Pelvic-Femoral Pathomechanics
URL:https://www.posturalrestoration.com/programs-courses/introductory-courses/myokinematic-restoration/?venue=person#10000187
LOCATION:University of Kearney\, Kearney\, NE\, United States
CATEGORIES:Myokinematic Restoration
ATTACH;FMTTYPE=image/jpeg:https://cdn-space2.dbmgo.com/pri/wp-content/uploads/2023/12/01014503/Craig-Depperschmidt-Myokin-Live-Stream-scaled.jpg
END:VEVENT
BEGIN:VEVENT
DTSTART;TZID=America/Chicago:20150529T080000
DTEND;TZID=America/Chicago:20150530T170000
DTSTAMP:20260419T183150
CREATED:20230915T045840Z
LAST-MODIFIED:20230915T045840Z
UID:10000164-1432886400-1433005200@www.posturalrestoration.com
SUMMARY:Cervical Revolution - May 29-30\, 2015\, Lincoln\, NE
DESCRIPTION:Cervical Revolution – An Integrated Approach to the Treatment of Patterned Cervical Pathomechanics
URL:https://www.posturalrestoration.com/programs-courses/secondary-courses/cervical-revolution/?venue=person#10000164
LOCATION:United States
CATEGORIES:Cervical Revolution
ATTACH;FMTTYPE=image/jpeg:https://cdn-space2.dbmgo.com/pri/wp-content/uploads/2023/12/01014502/Cervical-Revolution-Louise-scaled.jpg
END:VEVENT
BEGIN:VEVENT
DTSTART;TZID=America/Chicago:20150425T080000
DTEND;TZID=America/Chicago:20150426T200000
DTSTAMP:20260419T183150
CREATED:20230915T044757Z
LAST-MODIFIED:20230915T044757Z
UID:10000136-1429948800-1430078400@www.posturalrestoration.com
SUMMARY:Impingement & Instability - New York\, NY April 25-26\, 2015
DESCRIPTION:Impingement & Instability – A Unique Approach to the Treatment of Common Impingement and Instability Through PRI Reference Center Integration
URL:https://www.posturalrestoration.com/programs-courses/secondary-courses/impingement-instability/?venue=person#10000136
LOCATION:Finish Line Physical Therapy\, New York\, NY\, United States
CATEGORIES:Impingement and Instability
ATTACH;FMTTYPE=image/jpeg:https://cdn-space2.dbmgo.com/pri/wp-content/uploads/2024/03/Impingement-course-page3.jpg
END:VEVENT
BEGIN:VEVENT
DTSTART;TZID=America/Chicago:20150416T080000
DTEND;TZID=America/Chicago:20150417T170000
DTSTAMP:20260419T183150
CREATED:20230915T042323Z
LAST-MODIFIED:20230915T042323Z
UID:10000102-1429171200-1429290000@www.posturalrestoration.com
SUMMARY:Interdisciplinary Integration - April 16-17th\, 2015 (Lincoln\, NE)
DESCRIPTION:Interdisciplinary Integration
URL:https://www.posturalrestoration.com/courses/misc/interdisciplinary-integration/?venue=person#10000102
LOCATION:United States
CATEGORIES:Interdisciplinary Integration
END:VEVENT
BEGIN:VEVENT
DTSTART;TZID=America/Chicago:20150314T080000
DTEND;TZID=America/Chicago:20150315T170000
DTSTAMP:20260419T183150
CREATED:20230915T045710Z
LAST-MODIFIED:20230915T045710Z
UID:10000160-1426320000-1426438800@www.posturalrestoration.com
SUMMARY:Cervical Revolution - March 14-15\, 2015 Chapel Hill\, NC
DESCRIPTION:Cervical Revolution – An Integrated Approach to the Treatment of Patterned Cervical Pathomechanics.
URL:https://www.posturalrestoration.com/programs-courses/secondary-courses/cervical-revolution/?venue=person#10000160
LOCATION:Advance Physical Therapy\, 1709 Legion Road\, Ste 100\, Chapel Hill\, NC\, 27517\, United States
CATEGORIES:Cervical Revolution
ATTACH;FMTTYPE=image/jpeg:https://cdn-space2.dbmgo.com/pri/wp-content/uploads/2023/12/01014502/Cervical-Revolution-Louise-scaled.jpg
END:VEVENT
BEGIN:VEVENT
DTSTART;TZID=America/Chicago:20150307T080000
DTEND;TZID=America/Chicago:20150308T170000
DTSTAMP:20260419T183150
CREATED:20230915T043831Z
LAST-MODIFIED:20230915T043831Z
UID:10000126-1425715200-1425834000@www.posturalrestoration.com
SUMMARY:Postural Respiration\, Montreal\, Qubec March 7-8\, 2015
DESCRIPTION:Postural Respiration – An Integrated Approach to Treatment of Patterned Thoraco-Abdominal Pathomechanics.
URL:https://www.posturalrestoration.com/programs-courses/introductory-courses/postural-respiration/?venue=person#10000126
LOCATION:CoreXcellence\, Montreal\, Canada
CATEGORIES:Postural Respiration
ATTACH;FMTTYPE=image/jpeg:https://cdn-space2.dbmgo.com/pri/wp-content/uploads/2023/12/01014503/Louise-Postural-Respiration-scaled.jpg
END:VEVENT
BEGIN:VEVENT
DTSTART;TZID=America/Chicago:20150124T080000
DTEND;TZID=America/Chicago:20150125T170000
DTSTAMP:20260419T183150
CREATED:20230915T045826Z
LAST-MODIFIED:20230915T045826Z
UID:10000163-1422086400-1422205200@www.posturalrestoration.com
SUMMARY:Cervical Revolution - January 24-25\, 2015\, Essex Junction\, VT
DESCRIPTION:Cervical Revolution – An Integrated Approach to the Treatment of Patterned Cervical Pathomechanics.
URL:https://www.posturalrestoration.com/programs-courses/secondary-courses/cervical-revolution/?venue=person#10000163
LOCATION:Essex Physical Therapy\, Essex Center\, VT\, United States
CATEGORIES:Cervical Revolution
ATTACH;FMTTYPE=image/jpeg:https://cdn-space2.dbmgo.com/pri/wp-content/uploads/2023/12/01014502/Cervical-Revolution-Louise-scaled.jpg
END:VEVENT
BEGIN:VEVENT
DTSTART;TZID=America/Chicago:20150110T080000
DTEND;TZID=America/Chicago:20150111T170000
DTSTAMP:20260419T183150
CREATED:20230915T043231Z
LAST-MODIFIED:20230915T043231Z
UID:10000113-1420876800-1420995600@www.posturalrestoration.com
SUMMARY:Impingement & Instability - January 10-11\, 2015 Lincoln\, NE
DESCRIPTION:Impingement & Instability – A Unique Approach to the Treatment of Common Impingement and Instability Through PRI Reference Center Integration
URL:https://www.posturalrestoration.com/programs-courses/secondary-courses/impingement-instability/?venue=person#10000113
LOCATION:United States
CATEGORIES:Impingement and Instability
ATTACH;FMTTYPE=image/jpeg:https://cdn-space2.dbmgo.com/pri/wp-content/uploads/2024/03/Impingement-course-page3.jpg
END:VEVENT
BEGIN:VEVENT
DTSTART;TZID=America/Chicago:20141204T080000
DTEND;TZID=America/Chicago:20141207T170000
DTSTAMP:20260419T183150
CREATED:20230915T041440Z
LAST-MODIFIED:20230915T041440Z
UID:10000078-1417680000-1417971600@www.posturalrestoration.com
SUMMARY:Advanced Integration Dec. 4-7th\, 2014
DESCRIPTION:Advanced Integration
URL:https://www.posturalrestoration.com/programs-courses/secondary-courses/advanced-integration/?venue=person#10000078
LOCATION:United States
CATEGORIES:Advanced Integration
ATTACH;FMTTYPE=image/jpeg:https://cdn-space2.dbmgo.com/pri/wp-content/uploads/2024/02/15151914/Advanced-Integration-2023-scaled.jpg
END:VEVENT
BEGIN:VEVENT
DTSTART;TZID=America/Chicago:20141018T060000
DTEND;TZID=America/Chicago:20141019T150000
DTSTAMP:20260419T183150
CREATED:20230915T030347Z
LAST-MODIFIED:20230915T030347Z
UID:10000063-1413612000-1413730800@www.posturalrestoration.com
SUMMARY:Cervical-Cranio-Mandibular Restoration Phoenix Oct 18-19th
DESCRIPTION:An Integrated Approach to Treatment of Patterned Temporomandibular and Cervical Dysfunction
URL:https://www.posturalrestoration.com/programs-courses/secondary-courses/cervical-revolution/?venue=person#10000063
LOCATION:East Valley Spine and Sports Medicine Center\, Chandler\, AZ\, United States
CATEGORIES:Cervical Revolution
ATTACH;FMTTYPE=image/jpeg:https://cdn-space2.dbmgo.com/pri/wp-content/uploads/2023/12/01014502/Cervical-Revolution-Louise-scaled.jpg
END:VEVENT
BEGIN:VEVENT
DTSTART;TZID=America/Chicago:20140919T080000
DTEND;TZID=America/Chicago:20140920T170000
DTSTAMP:20260419T183150
CREATED:20230915T025255Z
LAST-MODIFIED:20230915T025255Z
UID:10000035-1411113600-1411232400@www.posturalrestoration.com
SUMMARY:Cervical-Cranio-Mandibular Restoration St. Louis\, MO Sep. 19-20th
DESCRIPTION:An Integrated Approach to Treatment of Patterned Temporomandibular and Cervical Dysfunction
URL:https://www.posturalrestoration.com/programs-courses/secondary-courses/cervical-revolution/?venue=person#10000035
LOCATION:St. Luke’s Hospital Institute for Health Education\, 222 South Woods Mill Road\, Chesterfield\, MO\, 63017\, United States
CATEGORIES:Cervical Revolution
ATTACH;FMTTYPE=image/jpeg:https://cdn-space2.dbmgo.com/pri/wp-content/uploads/2023/12/01014502/Cervical-Revolution-Louise-scaled.jpg
END:VEVENT
BEGIN:VEVENT
DTSTART;TZID=America/Chicago:20140531T080000
DTEND;TZID=America/Chicago:20140601T170000
DTSTAMP:20260419T183150
CREATED:20230915T042113Z
LAST-MODIFIED:20230915T042113Z
UID:10000094-1401523200-1401642000@www.posturalrestoration.com
SUMMARY:Myokinematic Restoration - Whittier\, CA May 31-June 1st
DESCRIPTION:Myokinematic Restoration – An Integrated Approach to the Treatment of Patterned Lumbo-Pelvic-Femoral Pathomechanics
URL:https://www.posturalrestoration.com/programs-courses/introductory-courses/myokinematic-restoration/?venue=person#10000094
LOCATION:Southern California University of Health Sciences\, Whittier\, CA\, United States
CATEGORIES:Myokinematic Restoration
ATTACH;FMTTYPE=image/jpeg:https://cdn-space2.dbmgo.com/pri/wp-content/uploads/2023/12/01014503/Craig-Depperschmidt-Myokin-Live-Stream-scaled.jpg
END:VEVENT
BEGIN:VEVENT
DTSTART;TZID=America/Chicago:20140517T080000
DTEND;TZID=America/Chicago:20140518T170000
DTSTAMP:20260419T183150
CREATED:20230915T030247Z
LAST-MODIFIED:20230915T030247Z
UID:10000060-1400313600-1400432400@www.posturalrestoration.com
SUMMARY:Cervical-Cranio-Mandibular Restoration Richmond\, VA May 17-18th
DESCRIPTION:An Integrated Approach to Treatment of Patterned Temporomandibular and Cervical Dysfunction
URL:https://www.posturalrestoration.com/programs-courses/secondary-courses/cervical-revolution/?venue=person#10000060
LOCATION:CJW Sports Medicine/Boulders Clinic\, Richmond\, VA\, 23225\, United States
CATEGORIES:Cervical Revolution
ATTACH;FMTTYPE=image/jpeg:https://cdn-space2.dbmgo.com/pri/wp-content/uploads/2023/12/01014502/Cervical-Revolution-Louise-scaled.jpg
END:VEVENT
BEGIN:VEVENT
DTSTART;TZID=America/Chicago:20140410T080000
DTEND;TZID=America/Chicago:20140411T170000
DTSTAMP:20260419T183150
CREATED:20230915T041058Z
LAST-MODIFIED:20230915T041058Z
UID:10000074-1397116800-1397235600@www.posturalrestoration.com
SUMMARY:Interdisciplinary Integration - Lincoln\, NE April 10-11th
DESCRIPTION:Gas & Gravity
URL:https://www.posturalrestoration.com/courses/misc/interdisciplinary-integration/?venue=person#10000074
LOCATION:Grand Manse\, 129 N 10th Street\, Lincoln\, NE\, 68508\, United States
CATEGORIES:Interdisciplinary Integration
END:VEVENT
BEGIN:VEVENT
DTSTART;TZID=America/Chicago:20140329T080000
DTEND;TZID=America/Chicago:20140330T170000
DTSTAMP:20260419T183150
CREATED:20230915T030211Z
LAST-MODIFIED:20230915T030211Z
UID:10000058-1396080000-1396198800@www.posturalrestoration.com
SUMMARY:Postural Respiration New York- March 29-30\, 2014
DESCRIPTION:An Integrated Approach to Treatment of Patterned Thoraco-Abdominal Pathomechanics
URL:https://www.posturalrestoration.com/programs-courses/introductory-courses/postural-respiration/?venue=person#10000058
LOCATION:Finish Line Physical Therapy\, New York\, NY\, United States
CATEGORIES:Postural Respiration
ATTACH;FMTTYPE=image/jpeg:https://cdn-space2.dbmgo.com/pri/wp-content/uploads/2023/12/01014503/Louise-Postural-Respiration-scaled.jpg
END:VEVENT
BEGIN:VEVENT
DTSTART;TZID=America/Chicago:20140301T080000
DTEND;TZID=America/Chicago:20140302T170000
DTSTAMP:20260419T183150
CREATED:20230915T030452Z
LAST-MODIFIED:20230915T030452Z
UID:10000065-1393660800-1393779600@www.posturalrestoration.com
SUMMARY:Postural Respiration Indianapolis- March 1-2\, 2014
DESCRIPTION:An Integrated Approach to Treatment of Patterned Thoraco-Abdominal Pathomechanics
URL:https://www.posturalrestoration.com/programs-courses/introductory-courses/postural-respiration/?venue=person#10000065
LOCATION:IFAST\, Indianapolis\, IN\, United States
CATEGORIES:Postural Respiration
ATTACH;FMTTYPE=image/jpeg:https://cdn-space2.dbmgo.com/pri/wp-content/uploads/2023/12/01014503/Louise-Postural-Respiration-scaled.jpg
END:VEVENT
BEGIN:VEVENT
DTSTART;TZID=America/Chicago:20140208T080000
DTEND;TZID=America/Chicago:20140209T170000
DTSTAMP:20260419T183150
CREATED:20230915T025852Z
LAST-MODIFIED:20230915T025852Z
UID:10000052-1391846400-1391965200@www.posturalrestoration.com
SUMMARY:Cervical-Cranio-Mandibular Restoration Philadelphia\, PA Feb. 8-9th
DESCRIPTION:An Integrated Approach to Treatment of Patterned Temporomandibular and Cervical Dysfunction
URL:https://www.posturalrestoration.com/programs-courses/secondary-courses/cervical-revolution/?venue=person#10000052
LOCATION:Endeavor Sports Performance\, Philadelphia\, PA\, United States
CATEGORIES:Cervical Revolution
ATTACH;FMTTYPE=image/jpeg:https://cdn-space2.dbmgo.com/pri/wp-content/uploads/2023/12/01014502/Cervical-Revolution-Louise-scaled.jpg
END:VEVENT
BEGIN:VEVENT
DTSTART;TZID=America/Chicago:20140111T080000
DTEND;TZID=America/Chicago:20140112T170000
DTSTAMP:20260419T183150
CREATED:20230915T025355Z
LAST-MODIFIED:20230915T025355Z
UID:10000039-1389427200-1389546000@www.posturalrestoration.com
SUMMARY:Impingement & Instability Lincoln\, NE Jan. 11-12th
DESCRIPTION:A Unique Approach to the Treatment of Common Impingement and Instability Through PRI Reference Center Integration
URL:https://www.posturalrestoration.com/programs-courses/secondary-courses/impingement-instability/?venue=person#10000039
LOCATION:United States
CATEGORIES:Impingement and Instability
ATTACH;FMTTYPE=image/jpeg:https://cdn-space2.dbmgo.com/pri/wp-content/uploads/2024/03/Impingement-course-page3.jpg
END:VEVENT
BEGIN:VEVENT
DTSTART;TZID=America/Chicago:20131205T080000
DTEND;TZID=America/Chicago:20131208T170000
DTSTAMP:20260419T183150
CREATED:20230915T023844Z
LAST-MODIFIED:20230915T023844Z
UID:10000026-1386230400-1386522000@www.posturalrestoration.com
SUMMARY:Advanced Integration
DESCRIPTION:A Comprehensive Overview of PRI Science Integrated in an Advanced Manner
URL:https://www.posturalrestoration.com/programs-courses/secondary-courses/advanced-integration/?venue=person#10000026
LOCATION:United States
CATEGORIES:Advanced Integration
ATTACH;FMTTYPE=image/jpeg:https://cdn-space2.dbmgo.com/pri/wp-content/uploads/2024/02/15151914/Advanced-Integration-2023-scaled.jpg
END:VEVENT
BEGIN:VEVENT
DTSTART;TZID=America/Chicago:20131123T080000
DTEND;TZID=America/Chicago:20131124T170000
DTSTAMP:20260419T183150
CREATED:20230915T025649Z
LAST-MODIFIED:20230915T025649Z
UID:10000046-1385193600-1385312400@www.posturalrestoration.com
SUMMARY:Postural-Visual Integration
DESCRIPTION:Moving Beyond Sight
URL:https://www.posturalrestoration.com/courses/misc/postural-visual-integration/?venue=person#10000046
LOCATION:East Valley Spine and Sports Medicine Center\, Chandler\, AZ\, United States
CATEGORIES:Postural-Visual Integration
END:VEVENT
BEGIN:VEVENT
DTSTART;TZID=America/Chicago:20131109T080000
DTEND;TZID=America/Chicago:20131110T170000
DTSTAMP:20260419T183150
CREATED:20230915T025324Z
LAST-MODIFIED:20230915T025324Z
UID:10000036-1383984000-1384102800@www.posturalrestoration.com
SUMMARY:Cervical-Cranio-Mandibular Restoration Salem
DESCRIPTION:An Integrated Approach to Treatment of Patterned Temporomandibular and Cervical Dysfunction
URL:https://www.posturalrestoration.com/programs-courses/secondary-courses/cervical-revolution/?venue=person#10000036
LOCATION:Salem Health\, 2561 Center Street NE\, Salem\, OR\, 97309\, United States
CATEGORIES:Cervical Revolution
ATTACH;FMTTYPE=image/jpeg:https://cdn-space2.dbmgo.com/pri/wp-content/uploads/2023/12/01014502/Cervical-Revolution-Louise-scaled.jpg
END:VEVENT
BEGIN:VEVENT
DTSTART;TZID=America/Chicago:20131005T080000
DTEND;TZID=America/Chicago:20131006T170000
DTSTAMP:20260419T183150
CREATED:20230915T021324Z
LAST-MODIFIED:20230915T021324Z
UID:10000015-1380960000-1381078800@www.posturalrestoration.com
SUMMARY:Myokinematic Restoration - New York\, NY- Oct. 5-6\, 2014
DESCRIPTION:An Integrated Approach to the Treatment of Patterned Lumbo-Pelvic-Femoral Pathomechanics
URL:https://www.posturalrestoration.com/programs-courses/introductory-courses/myokinematic-restoration/?venue=person#10000015
LOCATION:Finish Line Physical Therapy\, New York\, NY\, United States
CATEGORIES:Myokinematic Restoration
ATTACH;FMTTYPE=image/jpeg:https://cdn-space2.dbmgo.com/pri/wp-content/uploads/2023/12/01014503/Craig-Depperschmidt-Myokin-Live-Stream-scaled.jpg
END:VEVENT
END:VCALENDAR