BEGIN:VCALENDAR
VERSION:2.0
PRODID:-//Postural Restoration Institute - ECPv6.15.15//NONSGML v1.0//EN
CALSCALE:GREGORIAN
METHOD:PUBLISH
X-ORIGINAL-URL:https://www.posturalrestoration.com
X-WR-CALDESC:Events for Postural Restoration Institute
REFRESH-INTERVAL;VALUE=DURATION:PT1H
X-Robots-Tag:noindex
X-PUBLISHED-TTL:PT1H
BEGIN:VTIMEZONE
TZID:America/Chicago
BEGIN:DAYLIGHT
TZOFFSETFROM:-0600
TZOFFSETTO:-0500
TZNAME:CDT
DTSTART:20150308T080000
END:DAYLIGHT
BEGIN:STANDARD
TZOFFSETFROM:-0500
TZOFFSETTO:-0600
TZNAME:CST
DTSTART:20151101T070000
END:STANDARD
BEGIN:DAYLIGHT
TZOFFSETFROM:-0600
TZOFFSETTO:-0500
TZNAME:CDT
DTSTART:20160313T080000
END:DAYLIGHT
BEGIN:STANDARD
TZOFFSETFROM:-0500
TZOFFSETTO:-0600
TZNAME:CST
DTSTART:20161106T070000
END:STANDARD
BEGIN:DAYLIGHT
TZOFFSETFROM:-0600
TZOFFSETTO:-0500
TZNAME:CDT
DTSTART:20170312T080000
END:DAYLIGHT
BEGIN:STANDARD
TZOFFSETFROM:-0500
TZOFFSETTO:-0600
TZNAME:CST
DTSTART:20171105T070000
END:STANDARD
BEGIN:DAYLIGHT
TZOFFSETFROM:-0600
TZOFFSETTO:-0500
TZNAME:CDT
DTSTART:20180311T080000
END:DAYLIGHT
BEGIN:STANDARD
TZOFFSETFROM:-0500
TZOFFSETTO:-0600
TZNAME:CST
DTSTART:20181104T070000
END:STANDARD
BEGIN:DAYLIGHT
TZOFFSETFROM:-0600
TZOFFSETTO:-0500
TZNAME:CDT
DTSTART:20190310T080000
END:DAYLIGHT
BEGIN:STANDARD
TZOFFSETFROM:-0500
TZOFFSETTO:-0600
TZNAME:CST
DTSTART:20191103T070000
END:STANDARD
BEGIN:DAYLIGHT
TZOFFSETFROM:-0600
TZOFFSETTO:-0500
TZNAME:CDT
DTSTART:20200308T080000
END:DAYLIGHT
BEGIN:STANDARD
TZOFFSETFROM:-0500
TZOFFSETTO:-0600
TZNAME:CST
DTSTART:20201101T070000
END:STANDARD
END:VTIMEZONE
BEGIN:VEVENT
DTSTART;TZID=America/Chicago:20190322T080000
DTEND;TZID=America/Chicago:20190323T170000
DTSTAMP:20260419T132604
CREATED:20230915T164416Z
LAST-MODIFIED:20230915T164416Z
UID:10000498-1553241600-1553360400@www.posturalrestoration.com
SUMMARY:Cranial Resolution\, March 22-23\, 2019 (Lincoln\, NE)
DESCRIPTION:An Integrated Approach to the Treatment of Autonomic and Central Nervous System Dysfunctional Oscillation
URL:https://www.posturalrestoration.com/programs-courses/tertiary-courses/cranial-resolution/?venue=person#10000498
LOCATION:United States
CATEGORIES:Cranial Resolution
ATTACH;FMTTYPE=image/jpeg:https://cdn-space2.dbmgo.com/pri/wp-content/uploads/2024/02/19160109/Cranial-Resolution-Jen-Smart-scaled-e1708380178241.jpg
END:VEVENT
BEGIN:VEVENT
DTSTART;TZID=America/Chicago:20190223T080000
DTEND;TZID=America/Chicago:20190224T170000
DTSTAMP:20260419T132605
CREATED:20230915T165651Z
LAST-MODIFIED:20230915T165651Z
UID:10000516-1550908800-1551027600@www.posturalrestoration.com
SUMMARY:Cervical Revolution\, February 23-24\, 2019 (New York\, NY)
DESCRIPTION:An Integrated Approach to the Treatment of Patterned Cervical Pathomechanics
URL:https://www.posturalrestoration.com/programs-courses/secondary-courses/cervical-revolution/?venue=person#10000516
LOCATION:Finish Line Physical Therapy\, New York\, NY\, United States
CATEGORIES:Cervical Revolution
ATTACH;FMTTYPE=image/jpeg:https://cdn-space2.dbmgo.com/pri/wp-content/uploads/2023/12/01014502/Cervical-Revolution-Louise-scaled.jpg
END:VEVENT
BEGIN:VEVENT
DTSTART;TZID=America/Chicago:20190201T080000
DTEND;TZID=America/Chicago:20190202T170000
DTSTAMP:20260419T132605
CREATED:20230915T164053Z
LAST-MODIFIED:20230915T164053Z
UID:10000495-1549008000-1549126800@www.posturalrestoration.com
SUMMARY:PRI Non-Manual Techniques Workshop\, February 1-2\, 2019 (Lincoln\, NE)
DESCRIPTION:                     
URL:https://www.posturalrestoration.com/programs-courses/tertiary-courses/primary-non-manual-techniques-workshop/?venue=person#10000495
LOCATION:United States
CATEGORIES:Primary Non-Manual Techniques Workshop
ATTACH;FMTTYPE=image/jpeg:https://cdn-space2.dbmgo.com/pri/wp-content/uploads/2024/02/15151605/Non-Manual-Techniques-Workshop-2023-scaled.jpg
END:VEVENT
BEGIN:VEVENT
DTSTART;TZID=America/Chicago:20190126T080000
DTEND;TZID=America/Chicago:20190127T170000
DTSTAMP:20260419T132605
CREATED:20230915T173321Z
LAST-MODIFIED:20230915T173321Z
UID:10000562-1548489600-1548608400@www.posturalrestoration.com
SUMMARY:Cranial Resolution\, January 26-27\, 2019 (Seattle\, WA)
DESCRIPTION:An Integrated Approach to the Treatment of Autonomic and Central Nervous System Dysfunctional Oscillation
URL:https://www.posturalrestoration.com/programs-courses/tertiary-courses/cranial-resolution/?venue=person#10000562
LOCATION:Alpine Physical Therapy\, Seattle\, WA\, United States
CATEGORIES:Cranial Resolution
ATTACH;FMTTYPE=image/jpeg:https://cdn-space2.dbmgo.com/pri/wp-content/uploads/2024/02/19160109/Cranial-Resolution-Jen-Smart-scaled-e1708380178241.jpg
END:VEVENT
BEGIN:VEVENT
DTSTART;TZID=America/Chicago:20181206T080000
DTEND;TZID=America/Chicago:20181209T170000
DTSTAMP:20260419T132605
CREATED:20230915T083326Z
LAST-MODIFIED:20230915T083326Z
UID:10000475-1544083200-1544374800@www.posturalrestoration.com
SUMMARY:Advanced Integration\, December 6-9\, 2018 (Lincoln\, NE)
DESCRIPTION:A Comprehensive Overview of PRI Science Integrated in an Advanced Manner
URL:https://www.posturalrestoration.com/programs-courses/secondary-courses/advanced-integration/?venue=person#10000475
LOCATION:United States
CATEGORIES:Advanced Integration
ATTACH;FMTTYPE=image/jpeg:https://cdn-space2.dbmgo.com/pri/wp-content/uploads/2024/02/15151914/Advanced-Integration-2023-scaled.jpg
END:VEVENT
BEGIN:VEVENT
DTSTART;TZID=America/Chicago:20181020T080000
DTEND;TZID=America/Chicago:20181020T170000
DTSTAMP:20260419T132605
CREATED:20230915T083442Z
LAST-MODIFIED:20230915T083442Z
UID:10000476-1540022400-1540054800@www.posturalrestoration.com
SUMMARY:Occlusal Cervical Restoration\, October 20\, 2018 (Dallas\, TX)
DESCRIPTION:An Interdisciplinary Approach to the Treatment of Patterned Occlusal Pathomechanics
URL:https://www.posturalrestoration.com/programs-courses/tertiary-courses/occlusal-cervical-restoration/?venue=person#10000476
LOCATION:GO Sports Therapy\, Coppell\, TX\, United States
CATEGORIES:Occlusal Cervical Restoration
ATTACH;FMTTYPE=image/jpeg:https://cdn-space2.dbmgo.com/pri/wp-content/uploads/2024/03/21145330/Occlusal-course-photo2-scaled.jpg
END:VEVENT
BEGIN:VEVENT
DTSTART;TZID=America/Chicago:20180929T080000
DTEND;TZID=America/Chicago:20180930T170000
DTSTAMP:20260419T132605
CREATED:20230915T071912Z
LAST-MODIFIED:20230915T071912Z
UID:10000379-1538208000-1538326800@www.posturalrestoration.com
SUMMARY:Impingement & Instability\, September 29-30\, 2018 (New York\, NY)
DESCRIPTION:A Unique Approach to the Treatment of Common Impingement and Instability Through PRI Reference Center Integration
URL:https://www.posturalrestoration.com/programs-courses/secondary-courses/impingement-instability/?venue=person#10000379
LOCATION:Finish Line Physical Therapy\, New York\, NY\, United States
CATEGORIES:Impingement and Instability
ATTACH;FMTTYPE=image/jpeg:https://cdn-space2.dbmgo.com/pri/wp-content/uploads/2024/03/Impingement-course-page3.jpg
END:VEVENT
BEGIN:VEVENT
DTSTART;TZID=America/Chicago:20180915T080000
DTEND;TZID=America/Chicago:20180916T170000
DTSTAMP:20260419T132605
CREATED:20230915T072330Z
LAST-MODIFIED:20230915T072330Z
UID:10000384-1536998400-1537117200@www.posturalrestoration.com
SUMMARY:Cervical Revolution\, September 15-16\, 2018 (Warner Robins\, GA)
DESCRIPTION:An Integrated Approach to the Treatment of Patterned Cervical Pathomechanics
URL:https://www.posturalrestoration.com/programs-courses/secondary-courses/cervical-revolution/?venue=person#10000384
LOCATION:Cantrell Center for Physical Therapy\, Warner Robins\, GA\, United States
CATEGORIES:Cervical Revolution
ATTACH;FMTTYPE=image/jpeg:https://cdn-space2.dbmgo.com/pri/wp-content/uploads/2023/12/01014502/Cervical-Revolution-Louise-scaled.jpg
END:VEVENT
BEGIN:VEVENT
DTSTART;TZID=America/Chicago:20180804T080000
DTEND;TZID=America/Chicago:20180805T170000
DTSTAMP:20260419T132605
CREATED:20230915T071634Z
LAST-MODIFIED:20230915T071634Z
UID:10000377-1533369600-1533488400@www.posturalrestoration.com
SUMMARY:Postural Respiration\, August 4-5\, 2018 (New York\, NY)
DESCRIPTION:An Integrated Approach to Treatment of Patterned Thoraco-Abdominal Pathomechanics
URL:https://www.posturalrestoration.com/programs-courses/introductory-courses/postural-respiration/?venue=person#10000377
LOCATION:Finish Line Physical Therapy\, New York\, NY\, United States
CATEGORIES:Postural Respiration
ATTACH;FMTTYPE=image/jpeg:https://cdn-space2.dbmgo.com/pri/wp-content/uploads/2023/12/01014503/Louise-Postural-Respiration-scaled.jpg
END:VEVENT
BEGIN:VEVENT
DTSTART;TZID=America/Chicago:20180728T080000
DTEND;TZID=America/Chicago:20180729T170000
DTSTAMP:20260419T132605
CREATED:20230915T075155Z
LAST-MODIFIED:20230915T075155Z
UID:10000423-1532764800-1532883600@www.posturalrestoration.com
SUMMARY:Impingement & Instability\, July 28-29\, 2018 (Tucson\, AZ)
DESCRIPTION:A Unique Approach to the Treatment of Common Impingement and Instability Through PRI Reference Center Integration
URL:https://www.posturalrestoration.com/programs-courses/secondary-courses/impingement-instability/?venue=person#10000423
LOCATION:University of Arizona\, Tucson\, AZ\, United States
CATEGORIES:Impingement and Instability
ATTACH;FMTTYPE=image/jpeg:https://cdn-space2.dbmgo.com/pri/wp-content/uploads/2024/03/Impingement-course-page3.jpg
END:VEVENT
BEGIN:VEVENT
DTSTART;TZID=America/Chicago:20180609T080000
DTEND;TZID=America/Chicago:20180611T170000
DTSTAMP:20260419T132605
CREATED:20230915T083700Z
LAST-MODIFIED:20230915T083700Z
UID:10000480-1528531200-1528736400@www.posturalrestoration.com
SUMMARY:Cervical Revolution\, June 9-11\, 2018 (Tokyo\, Japan)
DESCRIPTION:An Integrated Approach to the Treatment of Patterned Cervical Pathomechanics
URL:https://www.posturalrestoration.com/programs-courses/secondary-courses/cervical-revolution/?venue=person#10000480
LOCATION:Teikyo University Sports Medical Science Center\, 359 Otuska\, Hachioji\, 192-0352\, Japan
CATEGORIES:Cervical Revolution
ATTACH;FMTTYPE=image/jpeg:https://cdn-space2.dbmgo.com/pri/wp-content/uploads/2023/12/01014502/Cervical-Revolution-Louise-scaled.jpg
END:VEVENT
BEGIN:VEVENT
DTSTART;TZID=America/Chicago:20180601T080000
DTEND;TZID=America/Chicago:20180602T200000
DTSTAMP:20260419T132605
CREATED:20230915T083033Z
LAST-MODIFIED:20230915T083033Z
UID:10000472-1527840000-1527969600@www.posturalrestoration.com
SUMMARY:PRI Non-Manual Techniques Workshop\, June 1-2\, 2018 (Lincoln\, NE)
DESCRIPTION:PRI Non-Manual Techniques Workshop
URL:https://www.posturalrestoration.com/programs-courses/tertiary-courses/primary-non-manual-techniques-workshop/?venue=person#10000472
LOCATION:United States
CATEGORIES:Primary Non-Manual Techniques Workshop
ATTACH;FMTTYPE=image/jpeg:https://cdn-space2.dbmgo.com/pri/wp-content/uploads/2024/02/15151605/Non-Manual-Techniques-Workshop-2023-scaled.jpg
END:VEVENT
BEGIN:VEVENT
DTSTART;TZID=America/Chicago:20180521T080000
DTEND;TZID=America/Chicago:20180521T170000
DTSTAMP:20260419T132605
CREATED:20230915T083228Z
LAST-MODIFIED:20230915T083228Z
UID:10000474-1526889600-1526922000@www.posturalrestoration.com
SUMMARY:Occlusal Cervical Restoration\, May 21\, 2018\, (New York City\, NY)
DESCRIPTION:An Interdisciplinary Approach to the Treatment of Patterned Occlusal Pathomechanics
URL:https://www.posturalrestoration.com/programs-courses/tertiary-courses/occlusal-cervical-restoration/?venue=person#10000474
LOCATION:The Bowery Hotel\, New York City\, NY\, United States
CATEGORIES:Occlusal Cervical Restoration
ATTACH;FMTTYPE=image/jpeg:https://cdn-space2.dbmgo.com/pri/wp-content/uploads/2024/03/21145330/Occlusal-course-photo2-scaled.jpg
END:VEVENT
BEGIN:VEVENT
DTSTART;TZID=America/Chicago:20180519T080000
DTEND;TZID=America/Chicago:20180520T170000
DTSTAMP:20260419T132605
CREATED:20230915T072056Z
LAST-MODIFIED:20230915T072056Z
UID:10000381-1526716800-1526835600@www.posturalrestoration.com
SUMMARY:Cervical Revolution\, May 19-20\, 2018 (New York\, NY)
DESCRIPTION:An Integrated Approach to the Treatment of Patterned Cervical Pathomechanics
URL:https://www.posturalrestoration.com/programs-courses/secondary-courses/cervical-revolution/?venue=person#10000381
LOCATION:Finish Line Physical Therapy\, New York\, NY\, United States
CATEGORIES:Cervical Revolution
ATTACH;FMTTYPE=image/jpeg:https://cdn-space2.dbmgo.com/pri/wp-content/uploads/2023/12/01014502/Cervical-Revolution-Louise-scaled.jpg
END:VEVENT
BEGIN:VEVENT
DTSTART;TZID=America/Chicago:20180419T080000
DTEND;TZID=America/Chicago:20180420T170000
DTSTAMP:20260419T132605
CREATED:20230915T073759Z
LAST-MODIFIED:20230915T073759Z
UID:10000403-1524124800-1524243600@www.posturalrestoration.com
SUMMARY:Interdisciplinary Integration\, April 19-20\, 2018 (Lincoln\, NE)
DESCRIPTION:10th Annual Interdisciplinary Integration Symposium\n Postural Restriction: An Interdisciplinary Approach to Alignment of Functional Patterns
URL:https://www.posturalrestoration.com/courses/misc/interdisciplinary-integration/?venue=person#10000403
LOCATION:United States
CATEGORIES:Interdisciplinary Integration
END:VEVENT
BEGIN:VEVENT
DTSTART;TZID=America/Chicago:20180211T080000
DTEND;TZID=America/Chicago:20180211T170000
DTSTAMP:20260419T132605
CREATED:20230915T083129Z
LAST-MODIFIED:20230915T083129Z
UID:10000473-1518336000-1518368400@www.posturalrestoration.com
SUMMARY:Occlusal Cervical Restoration\, February 11\, 2018 (Lincoln\, NE)
DESCRIPTION:An Interdisciplinary Approach to the Treatment of Patterned Occlusal Pathomechanics
URL:https://www.posturalrestoration.com/programs-courses/tertiary-courses/occlusal-cervical-restoration/?venue=person#10000473
LOCATION:United States
CATEGORIES:Occlusal Cervical Restoration
ATTACH;FMTTYPE=image/jpeg:https://cdn-space2.dbmgo.com/pri/wp-content/uploads/2024/03/21145330/Occlusal-course-photo2-scaled.jpg
END:VEVENT
BEGIN:VEVENT
DTSTART;TZID=America/Chicago:20180209T080000
DTEND;TZID=America/Chicago:20180210T170000
DTSTAMP:20260419T132605
CREATED:20230915T073716Z
LAST-MODIFIED:20230915T073716Z
UID:10000401-1518163200-1518282000@www.posturalrestoration.com
SUMMARY:Cervical Revolution\, February 9-10\, 2018 (Lincoln\, NE)
DESCRIPTION:An Integrated Approach to the Treatment of Patterned Cervical Pathomechanics
URL:https://www.posturalrestoration.com/programs-courses/secondary-courses/cervical-revolution/?venue=person#10000401
LOCATION:United States
CATEGORIES:Cervical Revolution
ATTACH;FMTTYPE=image/jpeg:https://cdn-space2.dbmgo.com/pri/wp-content/uploads/2023/12/01014502/Cervical-Revolution-Louise-scaled.jpg
END:VEVENT
BEGIN:VEVENT
DTSTART;TZID=America/Chicago:20180106T080000
DTEND;TZID=America/Chicago:20180107T170000
DTSTAMP:20260419T132605
CREATED:20230915T073932Z
LAST-MODIFIED:20230915T073932Z
UID:10000404-1515225600-1515344400@www.posturalrestoration.com
SUMMARY:Impingement & Instability\, January 6-7\, 2018 (Lincoln\, NE)
DESCRIPTION:A Unique Approach to the Treatment of Common Impingement and Instability Through PRI Reference Center Integration
URL:https://www.posturalrestoration.com/programs-courses/secondary-courses/impingement-instability/?venue=person#10000404
LOCATION:United States
CATEGORIES:Impingement and Instability
ATTACH;FMTTYPE=image/jpeg:https://cdn-space2.dbmgo.com/pri/wp-content/uploads/2024/03/Impingement-course-page3.jpg
END:VEVENT
BEGIN:VEVENT
DTSTART;TZID=America/Chicago:20171207T080000
DTEND;TZID=America/Chicago:20171210T170000
DTSTAMP:20260419T132605
CREATED:20230915T061933Z
LAST-MODIFIED:20230915T061933Z
UID:10000297-1512633600-1512925200@www.posturalrestoration.com
SUMMARY:Advanced Integration\, December 7-10\, 2017 (Lincoln\, NE)
DESCRIPTION:Advanced Integration – A Comprehensive Overview of PRI Science Integrated in an Advanced Manner
URL:https://www.posturalrestoration.com/programs-courses/secondary-courses/advanced-integration/?venue=person#10000297
LOCATION:United States
CATEGORIES:Advanced Integration
ATTACH;FMTTYPE=image/jpeg:https://cdn-space2.dbmgo.com/pri/wp-content/uploads/2024/02/15151914/Advanced-Integration-2023-scaled.jpg
END:VEVENT
BEGIN:VEVENT
DTSTART;TZID=America/Chicago:20171007T080000
DTEND;TZID=America/Chicago:20171008T170000
DTSTAMP:20260419T132605
CREATED:20230915T064543Z
LAST-MODIFIED:20230915T064543Z
UID:10000332-1507363200-1507482000@www.posturalrestoration.com
SUMMARY:Cervical Revolution\, October 7-8\, 2017\, (Cary\, NC)
DESCRIPTION:An Integrated Approach to the Treatment of Patterned Cervical Pathomechanics
URL:https://www.posturalrestoration.com/programs-courses/secondary-courses/cervical-revolution/?venue=person#10000332
LOCATION:STEPS for Recovery\, Cary\, NC\, United States
CATEGORIES:Cervical Revolution
ATTACH;FMTTYPE=image/jpeg:https://cdn-space2.dbmgo.com/pri/wp-content/uploads/2023/12/01014502/Cervical-Revolution-Louise-scaled.jpg
END:VEVENT
BEGIN:VEVENT
DTSTART;TZID=America/Chicago:20170826T080000
DTEND;TZID=America/Chicago:20170827T170000
DTSTAMP:20260419T132605
CREATED:20230915T065749Z
LAST-MODIFIED:20230915T065749Z
UID:10000355-1503734400-1503853200@www.posturalrestoration.com
SUMMARY:Cervical Revolution\, August 26-27\, 2017 (Philadelphia\, PA)
DESCRIPTION:Cervical Revolution – An Integrated Approach to the Treatment of Patterned Cervical Pathomechanics
URL:https://www.posturalrestoration.com/programs-courses/secondary-courses/cervical-revolution/?venue=person#10000355
LOCATION:The Training Room Physical Therapy\, Philadelphia\, PA\, United States
CATEGORIES:Cervical Revolution
ATTACH;FMTTYPE=image/jpeg:https://cdn-space2.dbmgo.com/pri/wp-content/uploads/2023/12/01014502/Cervical-Revolution-Louise-scaled.jpg
END:VEVENT
BEGIN:VEVENT
DTSTART;TZID=America/Chicago:20170602T080000
DTEND;TZID=America/Chicago:20170603T170000
DTSTAMP:20260419T132605
CREATED:20230915T065034Z
LAST-MODIFIED:20230915T065034Z
UID:10000342-1496390400-1496509200@www.posturalrestoration.com
SUMMARY:Postural Respiration\, June 2-3\, 2017\, Kearney\, NE
DESCRIPTION:An Integrated Approach to Treatment of Patterned Thoraco-Abdominal Pathomechanics
URL:https://www.posturalrestoration.com/programs-courses/introductory-courses/postural-respiration/?venue=person#10000342
LOCATION:University of Nebraska at Kearney\, Kearney\, NE\, United States
CATEGORIES:Postural Respiration
ATTACH;FMTTYPE=image/jpeg:https://cdn-space2.dbmgo.com/pri/wp-content/uploads/2023/12/01014503/Louise-Postural-Respiration-scaled.jpg
END:VEVENT
BEGIN:VEVENT
DTSTART;TZID=America/Chicago:20170520T080000
DTEND;TZID=America/Chicago:20170521T170000
DTSTAMP:20260419T132605
CREATED:20230915T061702Z
LAST-MODIFIED:20230915T061702Z
UID:10000291-1495267200-1495386000@www.posturalrestoration.com
SUMMARY:Cervical Revolution - May 20-21\, 2017 - Chicago\, IL
DESCRIPTION:Cervical Revolution – An Integrated Approach to the Treatment of Patterned Cervical Pathomechanics
URL:https://www.posturalrestoration.com/programs-courses/secondary-courses/cervical-revolution/?venue=person#10000291
LOCATION:Pilates Central\, Wilmette\, IL\, United States
CATEGORIES:Cervical Revolution
ATTACH;FMTTYPE=image/jpeg:https://cdn-space2.dbmgo.com/pri/wp-content/uploads/2023/12/01014502/Cervical-Revolution-Louise-scaled.jpg
END:VEVENT
BEGIN:VEVENT
DTSTART;TZID=America/Chicago:20170420T080000
DTEND;TZID=America/Chicago:20170421T170000
DTSTAMP:20260419T132605
CREATED:20230915T061825Z
LAST-MODIFIED:20230915T061825Z
UID:10000295-1492675200-1492794000@www.posturalrestoration.com
SUMMARY:Interdisciplinary Integration\, Lincoln\, NE - April 20-21\, 2017
DESCRIPTION:Interdisciplinary Integration Annual Symposium
URL:https://www.posturalrestoration.com/courses/misc/interdisciplinary-integration/?venue=person#10000295
LOCATION:United States
CATEGORIES:Interdisciplinary Integration
END:VEVENT
BEGIN:VEVENT
DTSTART;TZID=America/Chicago:20170324T080000
DTEND;TZID=America/Chicago:20170325T170000
DTSTAMP:20260419T132605
CREATED:20230915T061917Z
LAST-MODIFIED:20230915T061917Z
UID:10000296-1490342400-1490461200@www.posturalrestoration.com
SUMMARY:Cervical Revolution\, Lincoln\, NE - March 24-25\, 2017
DESCRIPTION:An Integrated Approach to the Treatment of Patterned Cervical Pathomechanics
URL:https://www.posturalrestoration.com/programs-courses/secondary-courses/cervical-revolution/?venue=person#10000296
LOCATION:United States
CATEGORIES:Cervical Revolution
ATTACH;FMTTYPE=image/jpeg:https://cdn-space2.dbmgo.com/pri/wp-content/uploads/2023/12/01014502/Cervical-Revolution-Louise-scaled.jpg
END:VEVENT
BEGIN:VEVENT
DTSTART;TZID=America/Chicago:20170225T080000
DTEND;TZID=America/Chicago:20170226T170000
DTSTAMP:20260419T132605
CREATED:20230915T061057Z
LAST-MODIFIED:20230915T061057Z
UID:10000282-1488009600-1488128400@www.posturalrestoration.com
SUMMARY:Myokinematic Restoration\, February 25-26\, 2017\, New York\, NY
DESCRIPTION:An Integrated Approach to Treatment of Patterned Lumbo-Pelvic-Femoral Pathomechanics
URL:https://www.posturalrestoration.com/programs-courses/introductory-courses/myokinematic-restoration/?venue=person#10000282
LOCATION:Finish Line Physical Therapy\, New York\, NY\, United States
CATEGORIES:Myokinematic Restoration
ATTACH;FMTTYPE=image/jpeg:https://cdn-space2.dbmgo.com/pri/wp-content/uploads/2023/12/01014503/Craig-Depperschmidt-Myokin-Live-Stream-scaled.jpg
END:VEVENT
BEGIN:VEVENT
DTSTART;TZID=America/Chicago:20170107T080000
DTEND;TZID=America/Chicago:20170108T170000
DTSTAMP:20260419T132605
CREATED:20230915T061759Z
LAST-MODIFIED:20230915T061759Z
UID:10000294-1483776000-1483894800@www.posturalrestoration.com
SUMMARY:Impingement & Instability\, Lincoln\, NE - January 7-8\, 2017
DESCRIPTION:A Unique Approach to the Treatment of Common Impingement and Instability Through PRI Reference Center Integration
URL:https://www.posturalrestoration.com/programs-courses/secondary-courses/impingement-instability/?venue=person#10000294
LOCATION:United States
CATEGORIES:Impingement and Instability
ATTACH;FMTTYPE=image/jpeg:https://cdn-space2.dbmgo.com/pri/wp-content/uploads/2024/03/Impingement-course-page3.jpg
END:VEVENT
BEGIN:VEVENT
DTSTART;TZID=America/Chicago:20161208T080000
DTEND;TZID=America/Chicago:20161211T170000
DTSTAMP:20260419T132605
CREATED:20230915T055714Z
LAST-MODIFIED:20230915T055714Z
UID:10000272-1481184000-1481475600@www.posturalrestoration.com
SUMMARY:Advanced Integration\, December 8-11\, 2016\, Lincoln\, NE
DESCRIPTION:Advanced Integration – A Comprehensive Overview of PRI Science Integrated in an Advanced Manner
URL:https://www.posturalrestoration.com/programs-courses/secondary-courses/advanced-integration/?venue=person#10000272
LOCATION:United States
CATEGORIES:Advanced Integration
ATTACH;FMTTYPE=image/jpeg:https://cdn-space2.dbmgo.com/pri/wp-content/uploads/2024/02/15151914/Advanced-Integration-2023-scaled.jpg
END:VEVENT
BEGIN:VEVENT
DTSTART;TZID=America/Chicago:20161112T080000
DTEND;TZID=America/Chicago:20161113T103200
DTSTAMP:20260419T132605
CREATED:20230915T053450Z
LAST-MODIFIED:20230915T053450Z
UID:10000221-1478937600-1479033120@www.posturalrestoration.com
SUMMARY:Cervical Revolution\, November 12-13\, 2016\, Peoria\, AZ
DESCRIPTION:An Integrated Approach to the Treatment of Patterned Cervical Pathomechanics
URL:https://www.posturalrestoration.com/programs-courses/secondary-courses/cervical-revolution/?venue=person#10000221
LOCATION:Seattle Mariners\, Peoria\, AZ\, United States
CATEGORIES:Cervical Revolution
ATTACH;FMTTYPE=image/jpeg:https://cdn-space2.dbmgo.com/pri/wp-content/uploads/2023/12/01014502/Cervical-Revolution-Louise-scaled.jpg
END:VEVENT
BEGIN:VEVENT
DTSTART;TZID=America/Chicago:20161015T080000
DTEND;TZID=America/Chicago:20161016T170000
DTSTAMP:20260419T132605
CREATED:20230915T052156Z
LAST-MODIFIED:20230915T052156Z
UID:10000200-1476518400-1476637200@www.posturalrestoration.com
SUMMARY:Cervical Revolution\, October 15-16\, 2016\, Fort Collins\, CO
DESCRIPTION:An Integrated Approach to the Treatment of Patterned Cervical Pathomechanics
URL:https://www.posturalrestoration.com/programs-courses/secondary-courses/cervical-revolution/?venue=person#10000200
LOCATION:Rebound Sports and Physical Therapy\, Fort Collins\, CO\, United States
CATEGORIES:Cervical Revolution
ATTACH;FMTTYPE=image/jpeg:https://cdn-space2.dbmgo.com/pri/wp-content/uploads/2023/12/01014502/Cervical-Revolution-Louise-scaled.jpg
END:VEVENT
END:VCALENDAR